Felt | Verdi |
AlreadyApplied | True |
Aperture | 10.0 |
ApertureValue | 10.0 |
ApproximateFocusDistance | 2.9 |
AutoLateralCA | 1 |
AutoWhiteVersion | 134348800 |
BitsPerSample | 8 |
Blacks2012 | -9 |
BlueHue | 0 |
BlueSaturation | 0 |
CameraProfile | Adobe Standard |
CircleOfConfusion | 0.019 mm |
Clarity2012 | +10 |
ColorComponents | 3 |
ColorNoiseReduction | 25 |
ColorNoiseReductionDetail | 50 |
ColorNoiseReductionSmoothness | 50 |
ColorSpace | sRGB |
ColorTemperature | 5550 |
ColorTransform | YCbCr |
Contrast2012 | 0 |
ConvertToGrayscale | False |
CreateDate (1) | 2014:11:30 14:56:25.67 |
CreateDate | 2014:11:30 14:56:25 |
CreatorTool | Adobe Photoshop Lightroom 5.7 (Windows) |
CropAngle | 0 |
CropBottom | 0.84375 |
CropConstrainToWarp | 0 |
CropLeft | 0 |
CropRight | 1 |
CropTop | 0 |
CustomRendered | Normal |
DateCreated (1) | 2014:11:30 |
DateCreated | 2014:11:30 14:56:25.67 |
DateTimeOriginal | 2014:11:30 14:56:25 |
DefringeGreenAmount | 0 |
DefringeGreenHueHi | 60 |
DefringeGreenHueLo | 40 |
DefringePurpleAmount | 0 |
DefringePurpleHueHi | 70 |
DefringePurpleHueLo | 30 |
DOF | 7.79 m (1.71 - 9.50 m) |
Exposure2012 | +0.52 |
ExposureCompensation | 0 |
ExposureMode | Auto |
ExposureProgram | Aperture-priority AE |
ExposureTime | 1/8 |
Firmware | 1.0.0 |
Flash | Off, Did not fire |
FlashCompensation | 0 |
FNumber | 10.0 |
FocalLength | 28.0 mm |
FocalLength35efl | 28.0 mm (35 mm equivalent: 44.4 mm) |
Format | image/jpeg |
FOV | 44.2 deg |
GrainAmount | 0 |
GreenHue | 0 |
GreenSaturation | 0 |
HasCrop | True |
HasExtendedXMP | 01EEC06E09BF0102475184B2CEE42D30 |
HasSettings | True |
Highlights2012 | -100 |
HueAdjustmentAqua | 0 |
HueAdjustmentBlue | 0 |
HueAdjustmentGreen | 0 |
HueAdjustmentMagenta | -5 |
HueAdjustmentOrange | -15 |
HueAdjustmentPurple | -46 |
HueAdjustmentRed | -10 |
HueAdjustmentYellow | 0 |
HyperfocalDistance | 4.13 m |
ImageHeight | 2916 |
ImageNumber | 0 |
ImageSize | 5184x2916 |
ImageWidth | 5184 |
ISO | 100 |
Lens | EF-S17-55mm f/2.8 IS USM |
LensID (1) | 240 |
LensID | Canon EF-S 17-55mm f/2.8 IS USM |
LensInfo | 17-55mm f/? |
LensManualDistortionAmount | 0 |
LensModel | EF-S17-55mm f/2.8 IS USM |
LensProfileChromaticAberrationScale | 100 |
LensProfileDistortionScale | 100 |
LensProfileEnable | 1 |
LensProfileFilename | Canon EOS 50D (Canon EF-S 17-55mm f2.8 IS USM) - RAW.lcp |
LensProfileName | Adobe (Canon EF-S 17-55mm f/2.8 IS USM) |
LensProfileSetup | LensDefaults |
LensProfileVignettingScale | 100 |
LensSerialNumber | 0000046648 |
LightValue | 9.6 |
LuminanceAdjustmentAqua | -12 |
LuminanceAdjustmentBlue | -32 |
LuminanceAdjustmentGreen | 0 |
LuminanceAdjustmentMagenta | 0 |
LuminanceAdjustmentOrange | -19 |
LuminanceAdjustmentPurple | -12 |
LuminanceAdjustmentRed | -15 |
LuminanceAdjustmentYellow | -21 |
LuminanceNoiseReductionContrast | 0 |
LuminanceNoiseReductionDetail | 50 |
LuminanceSmoothing | 30 |
Make | Canon |
MaxApertureValue | 2.8 |
Megapixels | 15.1 |
MeteringMode | Multi-segment |
Model | Canon EOS 100D |
ModifyDate (1) | 2015:02:02 10:38:49+01:00 |
ModifyDate | 2015:02:02 10:38:49 |
PaintCorrectionActive | true |
PaintCorrectionAmount | 1.000000 |
PaintCorrectionBrightness | 0.000000 |
PaintCorrectionClarity2012 (1) | 0.383930 |
PaintCorrectionClarity2012 | 0.000000 |
PaintCorrectionContrast2012 (1) | 0.142860 |
PaintCorrectionContrast2012 | 0.000000 |
PaintCorrectionDefringe | 0.000000 |
PaintCorrectionExposure2012 (1) | 0.339250 |
PaintCorrectionExposure2012 (2) | -0.080250 |
PaintCorrectionExposure2012 | 0.000000 |
PaintCorrectionHighlights2012 (3) | 0.000000 |
PaintCorrectionHighlights2012 | 0.473210 |
PaintCorrectionHue (3) | 0.000000 |
PaintCorrectionHue | 240.000000 |
PaintCorrectionLuminanceNoise | 0.000000 |
PaintCorrectionMaskCenterWeight | 0.000000 |
PaintCorrectionMaskFlow (105) | 0.728000 |
PaintCorrectionMaskFlow (7) | 0.584000 |
PaintCorrectionMaskFlow (72) | 0.873000 |
PaintCorrectionMaskFlow | 1.000000 |
PaintCorrectionMaskRadius (1) | 0.067602 |
PaintCorrectionMaskRadius (100) | 0.023988 |
PaintCorrectionMaskRadius (101) | 0.023992 |
PaintCorrectionMaskRadius (104) | 0.018504 |
PaintCorrectionMaskRadius (105) | 0.018960 |
PaintCorrectionMaskRadius (106) | 0.018954 |
PaintCorrectionMaskRadius (107) | 0.018380 |
PaintCorrectionMaskRadius (108) | 0.018382 |
PaintCorrectionMaskRadius (109) | 0.018384 |
PaintCorrectionMaskRadius (110) | 0.012889 |
PaintCorrectionMaskRadius (111) | 0.012892 |
PaintCorrectionMaskRadius (112) | 0.012890 |
PaintCorrectionMaskRadius (113) | 0.012891 |
PaintCorrectionMaskRadius (115) | 0.012888 |
PaintCorrectionMaskRadius (116) | 0.012901 |
PaintCorrectionMaskRadius (117) | 0.012887 |
PaintCorrectionMaskRadius (118) | 0.012897 |
PaintCorrectionMaskRadius (119) | 0.013045 |
PaintCorrectionMaskRadius (120) | 0.013020 |
PaintCorrectionMaskRadius (121) | 0.013156 |
PaintCorrectionMaskRadius (122) | 0.013011 |
PaintCorrectionMaskRadius (123) | 0.013032 |
PaintCorrectionMaskRadius (124) | 0.012958 |
PaintCorrectionMaskRadius (125) | 0.012900 |
PaintCorrectionMaskRadius (126) | 0.012972 |
PaintCorrectionMaskRadius (127) | 0.012949 |
PaintCorrectionMaskRadius (128) | 0.012886 |
PaintCorrectionMaskRadius (130) | 0.030512 |
PaintCorrectionMaskRadius (131) | 0.018793 |
PaintCorrectionMaskRadius (132) | 0.019156 |
PaintCorrectionMaskRadius (133) | 0.018906 |
PaintCorrectionMaskRadius (134) | 0.018753 |
PaintCorrectionMaskRadius (135) | 0.018756 |
PaintCorrectionMaskRadius (136) | 0.018870 |
PaintCorrectionMaskRadius (137) | 0.019009 |
PaintCorrectionMaskRadius (138) | 0.019314 |
PaintCorrectionMaskRadius (14) | 0.007655 |
PaintCorrectionMaskRadius (30) | 0.024515 |
PaintCorrectionMaskRadius (35) | 0.018788 |
PaintCorrectionMaskRadius (46) | 0.001750 |
PaintCorrectionMaskRadius (5) | 0.036291 |
PaintCorrectionMaskRadius (60) | 0.003010 |
PaintCorrectionMaskRadius (63) | 0.005604 |
PaintCorrectionMaskRadius (64) | 0.004295 |
PaintCorrectionMaskRadius (66) | 0.008296 |
PaintCorrectionMaskRadius (68) | 0.004210 |
PaintCorrectionMaskRadius (69) | 0.004203 |
PaintCorrectionMaskRadius (7) | 0.013168 |
PaintCorrectionMaskRadius (72) | 0.004215 |
PaintCorrectionMaskRadius (73) | 0.004213 |
PaintCorrectionMaskRadius (74) | 0.004233 |
PaintCorrectionMaskRadius (76) | 0.004236 |
PaintCorrectionMaskRadius (77) | 0.067534 |
PaintCorrectionMaskRadius (78) | 0.067339 |
PaintCorrectionMaskRadius (79) | 0.035888 |
PaintCorrectionMaskRadius (80) | 0.029973 |
PaintCorrectionMaskRadius (81) | 0.029983 |
PaintCorrectionMaskRadius (82) | 0.030296 |
PaintCorrectionMaskRadius (83) | 0.114151 |
PaintCorrectionMaskRadius (84) | 0.118276 |
PaintCorrectionMaskRadius (85) | 0.114523 |
PaintCorrectionMaskRadius (86) | 0.114937 |
PaintCorrectionMaskRadius (87) | 0.113460 |
PaintCorrectionMaskRadius (88) | 0.114887 |
PaintCorrectionMaskRadius (90) | 0.054831 |
PaintCorrectionMaskRadius (91) | 0.042310 |
PaintCorrectionMaskRadius (92) | 0.041434 |
PaintCorrectionMaskRadius (93) | 0.041439 |
PaintCorrectionMaskRadius (94) | 0.030015 |
PaintCorrectionMaskRadius (95) | 0.030439 |
PaintCorrectionMaskRadius (96) | 0.024011 |
PaintCorrectionMaskRadius (97) | 0.023997 |
PaintCorrectionMaskRadius (98) | 0.023993 |
PaintCorrectionMaskRadius (99) | 0.023990 |
PaintCorrectionMaskRadius | 0.018759 |
PaintCorrectionMaskValue (53) | 0.885000 |
PaintCorrectionMaskValue (77) | 0.000000 |
PaintCorrectionMaskValue (86) | 0.721000 |
PaintCorrectionMaskValue | 1.000000 |
PaintCorrectionMaskWhat | Mask/Paint |
PaintCorrectionMoire | 0.000000 |
PaintCorrectionSaturation | 0.000000 |
PaintCorrectionShadows2012 (1) | 0.187500 |
PaintCorrectionShadows2012 | 0.000000 |
PaintCorrectionSharpness | 0.000000 |
PaintCorrectionTemperature (1) | 0.000000 |
PaintCorrectionTemperature (2) | -0.285710 |
PaintCorrectionTemperature (3) | 0.214290 |
PaintCorrectionTemperature (4) | 0.258930 |
PaintCorrectionTemperature | -0.053570 |
PaintCorrectionTint (3) | 0.125000 |
PaintCorrectionTint (4) | 0.375000 |
PaintCorrectionTint | 0.000000 |
PaintCorrectionWhat | Correction |
ParametricDarks | 0 |
ParametricHighlights | 0 |
ParametricHighlightSplit | 75 |
ParametricLights | 0 |
ParametricMidtoneSplit | 50 |
ParametricShadows | 0 |
ParametricShadowSplit | 25 |
PerspectiveAspect | 0 |
PerspectiveHorizontal | 0 |
PerspectiveRotate | 0.0 |
PerspectiveScale | 100 |
PerspectiveUpright | 0 |
PerspectiveVertical | 0 |
PostCropVignetteAmount | 0 |
ProcessVersion | 6.7 |
ProfileDescription | sRGB IEC61966-2.1 |
RecommendedExposureIndex | 100 |
RedHue | 0 |
RedSaturation | 0 |
Saturation | 0 |
SaturationAdjustmentAqua | 0 |
SaturationAdjustmentBlue | +25 |
SaturationAdjustmentGreen | 0 |
SaturationAdjustmentMagenta | +11 |
SaturationAdjustmentOrange | +37 |
SaturationAdjustmentPurple | +16 |
SaturationAdjustmentRed | +30 |
SaturationAdjustmentYellow | +27 |
ScaleFactor35efl | 1.6 |
SceneCaptureType | Standard |
SensitivityType | Recommended Exposure Index |
SerialNumber | 033071013138 |
Shadows2012 | 0 |
ShadowTint | 0 |
SharpenDetail | 25 |
SharpenEdgeMasking | 0 |
SharpenRadius | +1.0 |
Sharpness | 80 |
ShutterSpeed | 1/8 |
ShutterSpeedValue | 1/8 |
Software | Adobe Photoshop Lightroom 5.7 (Windows) |
SplitToningBalance | 0 |
SplitToningHighlightHue | 0 |
SplitToningHighlightSaturation | 0 |
SplitToningShadowHue | 0 |
SplitToningShadowSaturation | 0 |
Tint | +11 |
ToneCurve | 0, 0, 255, 255 |
ToneCurveBlue | 0, 0, 255, 255 |
ToneCurveGreen | 0, 0, 255, 255 |
ToneCurveName | Linear |
ToneCurveName2012 | Linear |
ToneCurvePV2012 | 0, 0, 255, 255 |
ToneCurvePV2012Blue | 0, 0, 255, 255 |
ToneCurvePV2012Green | 0, 0, 255, 255 |
ToneCurvePV2012Red | 0, 0, 255, 255 |
ToneCurveRed | 0, 0, 255, 255 |
Version | 8.7 |
Vibrance | 0 |
VignetteAmount | 0 |
WhiteBalance (1) | As Shot |
WhiteBalance | Auto |
Whites2012 | +13 |