Felt | Verdi |
AlreadyApplied | True |
Aperture | 13.0 |
ApertureValue | 13.0 |
Artist | Nanco Hoogstad |
AutoLateralCA | 0 |
BitsPerSample | 8 |
Blacks2012 | -52 |
BlueHue | 0 |
BlueSaturation | 0 |
By-line | Nanco Hoogstad |
CameraProfile | Embedded |
Caption-Abstract | OLYMPUS DIGITAL CAMERA |
CircleOfConfusion | 0.015 mm |
Clarity2012 | +14 |
ColorComponents | 3 |
ColorNoiseReduction | 14 |
ColorNoiseReductionDetail | 50 |
ColorTransform | YCbCr |
Contrast | Normal |
Contrast2012 | +10 |
ConvertToGrayscale | False |
Copyright | Nanco Hoogstad |
CopyrightFlag | True |
CopyrightNotice | Nanco Hoogstad |
CreateDate | 2015:08:18 20:16:56 |
Creator | Nanco Hoogstad |
CreatorCity | Sandnes |
CreatorCountry | Norway |
CreatorPostalCode | 4324 |
CreatorTool | Adobe Photoshop Lightroom 5.0 (Windows) |
CropAngle | -0.71795 |
CropBottom | 0.870071 |
CropConstrainToWarp | 0 |
CropLeft | 0.001195 |
CropRight | 0.972401 |
CropTop | 0.030022 |
CustomRendered | Normal |
DateCreated (1) | 2014:02:27 |
DateCreated | 2014:02:27 18:16:51 |
DateTimeOriginal | 2015:08:18 20:16:56 |
DefringeGreenAmount | 0 |
DefringeGreenHueHi | 60 |
DefringeGreenHueLo | 40 |
DefringePurpleAmount | 0 |
DefringePurpleHueHi | 70 |
DefringePurpleHueLo | 30 |
Description | OLYMPUS DIGITAL CAMERA |
DigitalZoomRatio | 1 |
Exposure2012 | -0.83 |
ExposureCompensation | 0 |
ExposureMode | Auto |
ExposureProgram | Shutter speed priority AE |
ExposureTime | 0.6 |
Flash | Auto, Did not fire |
FlashCompensation | 0 |
FNumber | 13.0 |
FocalLength | 60.0 mm |
FocalLength35efl | 60.0 mm (35 mm equivalent: 120.0 mm) |
FocalLengthIn35mmFormat | 120 mm |
Format | image/jpeg |
FOV | 17.1 deg |
GainControl | High gain up |
GrainAmount | 0 |
GreenHue | 0 |
GreenSaturation | 0 |
HasCrop | True |
HasExtendedXMP | EBAB3AF3F21DC8BD0B50F473C8E27A6B |
HasSettings | True |
Highlights2012 | +62 |
HueAdjustmentAqua | 0 |
HueAdjustmentBlue | 0 |
HueAdjustmentGreen | 0 |
HueAdjustmentMagenta | 0 |
HueAdjustmentOrange | 0 |
HueAdjustmentPurple | 0 |
HueAdjustmentRed | 0 |
HueAdjustmentYellow | 0 |
HyperfocalDistance | 18.43 m |
ImageDescription | OLYMPUS DIGITAL CAMERA |
ImageHeight | 2959 |
ImageSize | 4439x2959 |
ImageWidth | 4439 |
IncrementalTemperature | 0 |
IncrementalTint | 0 |
ISO | 400 |
Lens | OLYMPUS M.60mm F2.8 Macro |
LensInfo | 60mm f/2.8 |
LensManualDistortionAmount | 0 |
LensModel | OLYMPUS M.60mm F2.8 Macro |
LensProfileEnable | 0 |
LensProfileSetup | LensDefaults |
LensSerialNumber | ABQA04083 |
LightSource | Unknown |
LightValue | 6.1 |
LuminanceAdjustmentAqua | -4 |
LuminanceAdjustmentBlue | 0 |
LuminanceAdjustmentGreen | -7 |
LuminanceAdjustmentMagenta | 0 |
LuminanceAdjustmentOrange | -2 |
LuminanceAdjustmentPurple | 0 |
LuminanceAdjustmentRed | -7 |
LuminanceAdjustmentYellow | -7 |
LuminanceNoiseReductionContrast | 0 |
LuminanceNoiseReductionDetail | 50 |
LuminanceSmoothing | 18 |
Make | OLYMPUS IMAGING CORP. |
Marked | True |
MaxApertureValue | 2.8 |
Megapixels | 13.1 |
MeteringMode | Spot |
Model | E-M5MarkII |
ModifyDate (1) | 2015:08:18 22:21:21+02:00 |
ModifyDate | 2015:08:18 22:21:21 |
PaintCorrectionActive | true |
PaintCorrectionAmount | 1.000000 |
PaintCorrectionBrightness | 0.000000 |
PaintCorrectionClarity2012 (1) | -0.218390 |
PaintCorrectionClarity2012 | 0.000000 |
PaintCorrectionContrast2012 (1) | -0.356320 |
PaintCorrectionContrast2012 | 0.000000 |
PaintCorrectionDefringe | 0.000000 |
PaintCorrectionExposure2012 (1) | -0.195500 |
PaintCorrectionExposure2012 (2) | -0.540250 |
PaintCorrectionExposure2012 (3) | -0.517250 |
PaintCorrectionExposure2012 | -0.402250 |
PaintCorrectionHighlights2012 (1) | -0.149430 |
PaintCorrectionHighlights2012 | 0.000000 |
PaintCorrectionHue | 0.000000 |
PaintCorrectionLuminanceNoise | 0.000000 |
PaintCorrectionMaskCenterWeight (3) | 1.000000 |
PaintCorrectionMaskCenterWeight | 0.062337 |
PaintCorrectionMaskFlow | 1.000000 |
PaintCorrectionMaskRadius (3) | 0.002596 |
PaintCorrectionMaskRadius (5) | 0.005622 |
PaintCorrectionMaskRadius | 0.004303 |
PaintCorrectionMaskValue | 1.000000 |
PaintCorrectionMaskWhat | Mask/Paint |
PaintCorrectionMoire | 0.000000 |
PaintCorrectionSaturation (1) | -0.425290 |
PaintCorrectionSaturation | 0.000000 |
PaintCorrectionShadows2012 (1) | -0.770110 |
PaintCorrectionShadows2012 | 0.000000 |
PaintCorrectionSharpness (1) | 0.149430 |
PaintCorrectionSharpness | 0.241380 |
PaintCorrectionTemperature | 0.000000 |
PaintCorrectionTint | 0.000000 |
PaintCorrectionWhat | Correction |
ParametricDarks | 0 |
ParametricHighlights | 0 |
ParametricHighlightSplit | 75 |
ParametricLights | 0 |
ParametricMidtoneSplit | 50 |
ParametricShadows | 0 |
ParametricShadowSplit | 25 |
PerspectiveAspect | 0 |
PerspectiveHorizontal | 0 |
PerspectiveRotate | 0.0 |
PerspectiveScale | 100 |
PerspectiveUpright | 0 |
PerspectiveVertical | 0 |
PostCropVignetteAmount | +10 |
PostCropVignetteFeather | 50 |
PostCropVignetteMidpoint | 67 |
PostCropVignetteRoundness | +31 |
PostCropVignetteStyle | 1 |
ProcessVersion | 6.7 |
ProfileDescription | sRGB IEC61966-2.1 |
RedHue | 0 |
RedSaturation | 0 |
Rights | Nanco Hoogstad |
Saturation (1) | +7 |
Saturation | Normal |
SaturationAdjustmentAqua | 0 |
SaturationAdjustmentBlue | +4 |
SaturationAdjustmentGreen | +4 |
SaturationAdjustmentMagenta | 0 |
SaturationAdjustmentOrange | +4 |
SaturationAdjustmentPurple | 0 |
SaturationAdjustmentRed | -9 |
SaturationAdjustmentYellow | -9 |
ScaleFactor35efl | 2.0 |
SceneCaptureType | Standard |
SensitivityType | Standard Output Sensitivity |
SerialNumber | BFKA33899 |
Shadows2012 | +24 |
ShadowTint | 0 |
SharpenDetail | 25 |
SharpenEdgeMasking | 6 |
SharpenRadius | +1.0 |
Sharpness (1) | 14 |
Sharpness | Normal |
ShutterSpeed | 0.6 |
ShutterSpeedValue | 0.6 |
Software | Adobe Photoshop Lightroom 5.0 (Windows) |
SplitToningBalance | 0 |
SplitToningHighlightHue | 0 |
SplitToningHighlightSaturation | 0 |
SplitToningShadowHue | 0 |
SplitToningShadowSaturation | 0 |
ToneCurveName2012 | Linear |
ToneCurvePV2012 | 0, 0, 255, 255 |
ToneCurvePV2012Blue | 0, 0, 255, 255 |
ToneCurvePV2012Green | 0, 0, 255, 255 |
ToneCurvePV2012Red | 0, 0, 255, 255 |
UserComment | Panasonic Lumix |
Version | 8.1 |
Vibrance | +7 |
VignetteAmount | 0 |
WhiteBalance (1) | As Shot |
WhiteBalance | Auto |
Whites2012 | +29 |