Felt | Verdi |
AlreadyApplied | True |
Aperture | 8.0 |
ApertureValue | 8.0 |
ApproximateFocusDistance | 10 |
Artist | @Unni Misund Langlo |
AuthorsPosition | Photographer |
AutoLateralCA | 1 |
AutoWhiteVersion | 134348800 |
BitsPerSample | 8 |
Blacks2012 | 0 |
BlueHue | 0 |
BlueSaturation | 0 |
By-line | @Unni Misund Langlo |
By-lineTitle | Photographer |
CameraProfile | Embedded |
CFAPattern | [Red,Green][Green,Blue] |
CircleOfConfusion | 0.030 mm |
Clarity2012 | 0 |
ColorComponents | 3 |
ColorNoiseReduction | 0 |
ColorSpace | sRGB |
ColorTransform | YCbCr |
Contrast | Normal |
Contrast2012 | 0 |
ConvertToGrayscale | False |
Copyright | Unni Misund Langlo |
CopyrightFlag | False |
CopyrightNotice | Unni Misund Langlo |
CreateDate | 2019:02:23 15:15:18 |
Creator | @Unni Misund Langlo |
CreatorAddress | Blindheimsbreivik 55 |
CreatorCity | Ã…lesund |
CreatorCountry | Norway |
CreatorPostalCode | 6010 |
CreatorRegion | Ã…lesund |
CreatorTool | Adobe Photoshop Lightroom 6.12 (Windows) |
CreatorWorkEmail | unnialice123@gmail.com |
CreatorWorkTelephone | +47 942 89 810 |
CropAngle | 0 |
CropBottom | 1 |
CropConstrainToWarp | 0 |
CropLeft | 0.181543 |
CropRight | 1 |
CropTop | 0 |
CustomRendered | Normal |
DateCreated (1) | 2019:02:23 |
DateCreated | 2019:02:23 15:15:02.038 |
DateTimeOriginal | 2019:02:23 15:15:18 |
DefringeGreenAmount | 0 |
DefringeGreenHueHi | 60 |
DefringeGreenHueLo | 40 |
DefringePurpleAmount | 0 |
DefringePurpleHueHi | 70 |
DefringePurpleHueLo | 30 |
Dehaze | 0 |
DigitalZoomRatio | 1 |
DistortionCorrectionAlreadyApplied | True |
DOF | inf (1.94 m - inf) |
Exposure2012 | 0.00 |
ExposureCompensation | -1 |
ExposureMode | Manual |
ExposureProgram | Manual |
ExposureTime | 1/640 |
Flash | Off, Did not fire |
FNumber | 8.0 |
FocalLength | 24.0 mm |
FocalLength35efl | 24.0 mm (35 mm equivalent: 24.0 mm) |
FocalLengthIn35mmFormat | 24 mm |
Format | image/jpeg |
FOV | 73.7 deg |
GainControl | None |
GradientBasedCorrActive | true |
GradientBasedCorrAmount | 1.000000 |
GradientBasedCorrBrightness | 0.000000 |
GradientBasedCorrClarity2012 | 0.000900 |
GradientBasedCorrContrast2012 | 0.241380 |
GradientBasedCorrDefringe | 0.000000 |
GradientBasedCorrExposure2012 | -0.034500 |
GradientBasedCorrHighlights2012 | 0.264370 |
GradientBasedCorrHue | 240.000000 |
GradientBasedCorrLocalBlacks2012 | 0.001490 |
GradientBasedCorrLocalDehaze | 0.000000 |
GradientBasedCorrLocalWhites2012 | -0.080460 |
GradientBasedCorrLuminanceNoise | 0.000000 |
GradientBasedCorrMaskFullX | 0.480333 |
GradientBasedCorrMaskFullY | 0.556897 |
GradientBasedCorrMaskValue | 1.000000 |
GradientBasedCorrMaskWhat | Mask/Gradient |
GradientBasedCorrMaskZeroX | 0.479326 |
GradientBasedCorrMaskZeroY | 0.494236 |
GradientBasedCorrMoire | 0.000000 |
GradientBasedCorrSaturation | 0.000000 |
GradientBasedCorrShadows2012 | 0.310340 |
GradientBasedCorrSharpness | 0.000000 |
GradientBasedCorrTemperature | -0.264370 |
GradientBasedCorrTint | 0.011490 |
GradientBasedCorrWhat | Correction |
GrainAmount | 0 |
GreenHue | 0 |
GreenSaturation | 0 |
HasCrop | True |
HasExtendedXMP | 2C1E088F53DAF66CF9117002A094E5AE |
HasSettings | True |
Headline | Unni Misund Langlo |
Highlights2012 | +8 |
HueAdjustmentAqua | 0 |
HueAdjustmentBlue | 0 |
HueAdjustmentGreen | 0 |
HueAdjustmentMagenta | 0 |
HueAdjustmentOrange | 0 |
HueAdjustmentPurple | 0 |
HueAdjustmentRed | 0 |
HueAdjustmentYellow | 0 |
HyperfocalDistance | 2.40 m |
ImageHeight | 3602 |
ImageNumber | 8975 |
ImageSize | 6723x3602 |
ImageWidth | 6723 |
IncrementalTemperature | 0 |
IncrementalTint | 0 |
IsMergedHDR | True |
IsMergedPanorama | True |
ISO | 100 |
Keywords | røros |
Label | Red |
LateralChromaticAberrationCorrectionAlreadyApplied | True |
Lens | 24.0-120.0 mm f/4.0 |
LensID (1) | 170 |
LensID | AF-S Nikkor 24-120mm f/4G ED VR |
LensInfo | 24-120mm f/4 |
LensManualDistortionAmount | 0 |
LensModel | 24.0-120.0 mm f/4.0 |
LensProfileEnable | 1 |
LensProfileSetup | LensDefaults |
LightSource | Unknown |
LightValue | 15.3 |
LuminanceAdjustmentAqua | 0 |
LuminanceAdjustmentBlue | 0 |
LuminanceAdjustmentGreen | 0 |
LuminanceAdjustmentMagenta | 0 |
LuminanceAdjustmentOrange | 0 |
LuminanceAdjustmentPurple | 0 |
LuminanceAdjustmentRed | 0 |
LuminanceAdjustmentYellow | 0 |
LuminanceSmoothing | 0 |
Make | NIKON CORPORATION |
Marked | False |
MaxApertureValue | 4.0 |
Megapixels | 24.2 |
MeteringMode | Multi-segment |
Model | NIKON D750 |
ModifyDate (1) | 2019:03:02 14:38:40+01:00 |
ModifyDate | 2019:03:02 14:38:40 |
PaintCorrectionActive | true |
PaintCorrectionAmount | 1.000000 |
PaintCorrectionBrightness | 0.000000 |
PaintCorrectionClarity2012 | 0.000900 |
PaintCorrectionContrast2012 (1) | 0.264370 |
PaintCorrectionContrast2012 (3) | -0.080460 |
PaintCorrectionContrast2012 (4) | 0.333330 |
PaintCorrectionContrast2012 (5) | 0.816090 |
PaintCorrectionContrast2012 (6) | -0.655170 |
PaintCorrectionContrast2012 (7) | 0.425290 |
PaintCorrectionContrast2012 | 0.057470 |
PaintCorrectionDefringe | 0.000000 |
PaintCorrectionExposure2012 (6) | -0.195500 |
PaintCorrectionExposure2012 | 0.000000 |
PaintCorrectionHighlights2012 (1) | -0.609200 |
PaintCorrectionHighlights2012 | 0.001690 |
PaintCorrectionHue | 240.000000 |
PaintCorrectionLocalBlacks2012 | 0.001490 |
PaintCorrectionLocalDehaze | 0.000000 |
PaintCorrectionLocalWhites2012 (5) | 0.264370 |
PaintCorrectionLocalWhites2012 | 0.000000 |
PaintCorrectionLuminanceNoise | 0.000000 |
PaintCorrectionMaskCenterWeight (42) | 0.089472 |
PaintCorrectionMaskCenterWeight (64) | 0.022470 |
PaintCorrectionMaskCenterWeight | 0.000000 |
PaintCorrectionMaskFlow (10) | 0.600000 |
PaintCorrectionMaskFlow (63) | 1.000000 |
PaintCorrectionMaskFlow | 0.888000 |
PaintCorrectionMaskRadius (1) | 0.076603 |
PaintCorrectionMaskRadius (10) | 0.038423 |
PaintCorrectionMaskRadius (12) | 0.017820 |
PaintCorrectionMaskRadius (17) | 0.016652 |
PaintCorrectionMaskRadius (18) | 0.069694 |
PaintCorrectionMaskRadius (21) | 0.009838 |
PaintCorrectionMaskRadius (22) | 0.014082 |
PaintCorrectionMaskRadius (23) | 0.027297 |
PaintCorrectionMaskRadius (27) | 0.028867 |
PaintCorrectionMaskRadius (30) | 0.001583 |
PaintCorrectionMaskRadius (32) | 0.004393 |
PaintCorrectionMaskRadius (37) | 0.041240 |
PaintCorrectionMaskRadius (39) | 0.031864 |
PaintCorrectionMaskRadius (4) | 0.036512 |
PaintCorrectionMaskRadius (42) | 0.018406 |
PaintCorrectionMaskRadius (54) | 0.046050 |
PaintCorrectionMaskRadius (55) | 0.071309 |
PaintCorrectionMaskRadius (56) | 0.087434 |
PaintCorrectionMaskRadius (60) | 0.066095 |
PaintCorrectionMaskRadius (62) | 0.016809 |
PaintCorrectionMaskRadius (64) | 0.002385 |
PaintCorrectionMaskRadius (66) | 0.006775 |
PaintCorrectionMaskRadius (68) | 0.002962 |
PaintCorrectionMaskRadius (71) | 0.002266 |
PaintCorrectionMaskRadius (74) | 0.002868 |
PaintCorrectionMaskRadius (75) | 0.005560 |
PaintCorrectionMaskRadius (8) | 0.029636 |
PaintCorrectionMaskRadius (9) | 0.017024 |
PaintCorrectionMaskRadius | 0.004646 |
PaintCorrectionMaskValue (65) | 0.000000 |
PaintCorrectionMaskValue | 1.000000 |
PaintCorrectionMaskWhat | Mask/Paint |
PaintCorrectionMoire | 0.000000 |
PaintCorrectionSaturation | 0.000000 |
PaintCorrectionShadows2012 (1) | 1.000000 |
PaintCorrectionShadows2012 (3) | 0.218390 |
PaintCorrectionShadows2012 (5) | 0.494250 |
PaintCorrectionShadows2012 (8) | 0.034480 |
PaintCorrectionShadows2012 | 0.241380 |
PaintCorrectionSharpness | 0.000000 |
PaintCorrectionTemperature (1) | 0.103450 |
PaintCorrectionTemperature (3) | -0.103450 |
PaintCorrectionTemperature (4) | -0.195400 |
PaintCorrectionTemperature | -0.264370 |
PaintCorrectionTint (2) | 0.057470 |
PaintCorrectionTint (4) | -0.034480 |
PaintCorrectionTint | 0.011490 |
PaintCorrectionWhat | Correction |
ParametricDarks | 0 |
ParametricHighlights | 0 |
ParametricHighlightSplit | 75 |
ParametricLights | 0 |
ParametricMidtoneSplit | 50 |
ParametricShadows | 0 |
ParametricShadowSplit | 25 |
PerspectiveAspect | 0 |
PerspectiveHorizontal | 0 |
PerspectiveRotate | 0.0 |
PerspectiveScale | 100 |
PerspectiveUpright | 0 |
PerspectiveVertical | 0 |
PerspectiveX | 0.00 |
PerspectiveY | 0.00 |
PostCropVignetteAmount | 0 |
ProcessVersion | 6.7 |
ProfileDescription | sRGB IEC61966-2.1 |
RedHue | 0 |
RedSaturation | 0 |
Rights | Unni Misund Langlo |
Saturation (1) | 0 |
Saturation | Normal |
SaturationAdjustmentAqua | 0 |
SaturationAdjustmentBlue | 0 |
SaturationAdjustmentGreen | 0 |
SaturationAdjustmentMagenta | 0 |
SaturationAdjustmentOrange | 0 |
SaturationAdjustmentPurple | 0 |
SaturationAdjustmentRed | 0 |
SaturationAdjustmentYellow | 0 |
ScaleFactor35efl | 1.0 |
SceneCaptureType | Standard |
SceneType | Directly photographed |
SensingMethod | One-chip color area |
SensitivityType | Recommended Exposure Index |
SerialNumber | 6169470 |
Shadows2012 | +15 |
ShadowTint | 0 |
SharpenDetail | 25 |
SharpenEdgeMasking | 0 |
SharpenRadius | +1.0 |
Sharpness (1) | 0 |
Sharpness | Normal |
ShutterSpeed | 1/640 |
ShutterSpeedValue | 1/640 |
Software | Adobe Photoshop Lightroom 6.12 (Windows) |
SplitToningBalance | 0 |
SplitToningHighlightHue | 0 |
SplitToningHighlightSaturation | 0 |
SplitToningShadowHue | 0 |
SplitToningShadowSaturation | 0 |
Subject | røros |
SubjectDistanceRange | Unknown |
ToneCurve | 0, 0, 255, 255 |
ToneCurveBlue | 0, 0, 255, 255 |
ToneCurveGreen | 0, 0, 255, 255 |
ToneCurveName | Linear |
ToneCurveName2012 | Linear |
ToneCurvePV2012 | 0, 0, 255, 255 |
ToneCurvePV2012Blue | 0, 0, 255, 255 |
ToneCurvePV2012Green | 0, 0, 255, 255 |
ToneCurvePV2012Red | 0, 0, 255, 255 |
ToneCurveRed | 0, 0, 255, 255 |
ToneMapStrength | 0 |
Transformation | Spherical |
UsageTerms | All right reserved |
Version | 9.12 |
Vibrance | 0 |
VignetteAmount | 0 |
VignetteCorrectionAlreadyApplied | True |
VirtualFocalLength | 0.44337 |
VirtualImageXCenter | 0.314567 |
VirtualImageYCenter | 0.217871 |
WhiteBalance (1) | As Shot |
WhiteBalance | Auto |
Whites2012 | +35 |