Felt | Verdi |
AlreadyApplied | True |
Aperture | 5.6 |
ApertureValue | 5.6 |
Artist | Lars Erik Nes |
BitsPerSample | 8 |
BlueHue | 0 |
BlueSaturation | 0 |
Brightness | +50 |
By-line | Lars Erik Nes |
CameraProfile | ACR 3.3 |
CaptionWriter | Lars Erik Nes |
CFAPattern | [Green,Red][Blue,Green] |
ChromaticAberrationB | 0 |
ChromaticAberrationR | 0 |
CircleOfConfusion | 0.020 mm |
Clarity | 0 |
ColorComponents | 3 |
ColorMode | RGB |
ColorNoiseReduction | 25 |
ColorSpace | sRGB |
ColorTemperature | 4900 |
Contrast (2) | +45 |
Contrast | Normal |
ConvertToGrayscale | False |
Copyright | Lars Erik Nes |
CopyrightFlag | False |
CopyrightNotice | Lars Erik Nes |
CreateDate (1) | 2007:12:16 14:29:09.16+01:00 |
CreateDate | 2007:12:16 14:29:09 |
Creator | Lars Erik Nes |
CreatorAddress | Kartheia 63a |
CreatorCity | Kristiansand |
CreatorCountry | Norway |
CreatorTool | Adobe Photoshop CS2 Windows |
CreatorWorkEmail | L-nes@c2i.net |
CreatorWorkTelephone | 004791898013 |
CreatorWorkURL | http://www.fotosalg.net |
Credit | Adobe Lightroom |
CustomRendered | Normal |
DateTimeDigitized | 2007:12:16 14:29:09.16+01:00 |
DateTimeOriginal (1) | 2007:12:16 14:29:09.16+01:00 |
DateTimeOriginal | 2007:12:16 14:29:09 |
Defringe | 0 |
DigitalZoomRatio | 1 |
ExifImageHeight | 685 |
ExifImageWidth | 1024 |
Exposure | 0.00 |
ExposureCompensation | -1 |
ExposureMode | Auto |
ExposureProgram | Program AE |
ExposureTime | 1/50 |
FillLight | 0 |
Flash | No Flash |
FlashFired | False |
FlashFunction | False |
FlashMode | Unknown |
FlashRedEyeMode | False |
FlashReturn | No return detection |
FNumber | 5.6 |
FocalLength | 48.0 mm |
FocalLength35efl | 48.0 mm (35 mm equivalent: 72.0 mm) |
FocalLengthIn35mmFormat | 72 mm |
Format | image/jpeg |
FOV | 28.1 deg |
GainControl | None |
GreenHue | 0 |
GreenSaturation | 0 |
HasCrop | False |
HasSettings | True |
HighlightRecovery | 0 |
HueAdjustmentAqua | 0 |
HueAdjustmentBlue | 0 |
HueAdjustmentGreen | 0 |
HueAdjustmentMagenta | 0 |
HueAdjustmentOrange | 0 |
HueAdjustmentPurple | 0 |
HueAdjustmentRed | 0 |
HueAdjustmentYellow | 0 |
HyperfocalDistance | 20.54 m |
ICCProfileName | sRGB IEC61966-2.1 |
ImageHeight (1) | 803 |
ImageHeight | 685 |
ImageNumber | 7012 |
ImageSize | 1024x685 |
ImageWidth (1) | 1200 |
ImageWidth | 1024 |
ISO | 100 |
Keywords | Natur |
Lens | 18.0-200.0 mm f/3.5-5.6 |
LensInfo | 18-200mm f/3.5-5.6 |
LightSource | Unknown |
LightValue | 10.6 |
LuminanceAdjustmentAqua | 0 |
LuminanceAdjustmentBlue | 0 |
LuminanceAdjustmentGreen | 0 |
LuminanceAdjustmentMagenta | 0 |
LuminanceAdjustmentOrange | 0 |
LuminanceAdjustmentPurple | 0 |
LuminanceAdjustmentRed | 0 |
LuminanceAdjustmentYellow | 0 |
LuminanceSmoothing | 0 |
Make | NIKON CORPORATION |
MaxApertureValue | 4.6 |
Megapixels | 0.701 |
MeteringMode | Center-weighted average |
Model | NIKON D200 |
ModifyDate (1) | 2008:01:23 23:56:58+01:00 |
ModifyDate | 2008:01:23 23:56:58 |
Orientation | Horizontal (normal) |
ParametricDarks | 0 |
ParametricHighlights | 0 |
ParametricHighlightSplit | 75 |
ParametricLights | 0 |
ParametricMidtoneSplit | 50 |
ParametricShadows | 0 |
ParametricShadowSplit | 25 |
ProfileDescription | sRGB IEC61966-2.1 |
RedHue | 0 |
RedSaturation | 0 |
Rights | Lars Erik Nes |
Saturation (2) | 0 |
Saturation | Normal |
SaturationAdjustmentAqua | 0 |
SaturationAdjustmentBlue | 0 |
SaturationAdjustmentGreen | 0 |
SaturationAdjustmentMagenta | 0 |
SaturationAdjustmentOrange | 0 |
SaturationAdjustmentPurple | 0 |
SaturationAdjustmentRed | 0 |
SaturationAdjustmentYellow | 0 |
ScaleFactor35efl | 1.5 |
SceneCaptureType | Standard |
SceneType | Directly photographed |
SensingMethod | One-chip color area |
Shadows | 5 |
ShadowTint | 0 |
SharpenDetail | 55 |
SharpenEdgeMasking | 21 |
SharpenRadius | +1.0 |
Sharpness (2) | 79 |
Sharpness | Normal |
ShutterSpeed | 1/50 |
ShutterSpeedValue | 1/50 |
Software | Adobe Photoshop CS2 Windows |
SplitToningBalance | 0 |
SplitToningHighlightHue | 0 |
SplitToningHighlightSaturation | 0 |
SplitToningShadowHue | 0 |
SplitToningShadowSaturation | 0 |
Subject | Natur |
SubjectDistanceRange | Unknown |
Tint | 0 |
ToneCurve | 0, 0, 32, 22, 64, 56, 128, 128, 192, 196, 255, 255 |
ToneCurveName | Medium Contrast |
URL_List | |
Version | 1.0 |
Vibrance | +60 |
VignetteAmount | 0 |
WhiteBalance (2) | As Shot |
WhiteBalance | Auto |
Writer-Editor | Lars Erik Nes |