Felt | Verdi |
AlreadyApplied | True |
Aperture | 9.0 |
ApertureValue | 9.0 |
Artist | unknown |
BitsPerSample | 8 |
BlueHue | 0 |
BlueSaturation | 0 |
Brightness | +50 |
By-line | Harald Haakonsen |
CameraProfile | ACR 2.4 |
ChromaticAberrationB | 0 |
ChromaticAberrationR | 0 |
CircleOfConfusion | 0.019 mm |
ColorComponents | 1 |
ColorNoiseReduction | 42 |
ColorTemperature | 4950 |
Contrast | +21 |
ConvertToGrayscale | False |
Copyright | Harald Haakonsen |
CopyrightNotice | Harald Haakonsen |
CreateDate | 2006:12:25 14:31:35 |
Creator | Harald Haakonsen |
CreatorAddress | Fjellveien 16 |
CreatorCountry | Norge |
CreatorPostalCode | 1396 Billingstad |
CreatorTool | Adobe Photoshop Lightroom |
CreatorWorkEmail | harald_haakonsen@yahoo.no |
CreatorWorkURL | home.no/hhfoto |
CropAngle | 1.893386 |
CropBottom | 1 |
CropHeight | 600 |
CropLeft | 0.034121 |
CropRight | 0.965879 |
CropTop | 0 |
CropUnit | pixels |
CropWidth | 900 |
CustomRendered | Normal |
DateTimeDigitized | 2006:12:25 14:31:35+01:00 |
DateTimeOriginal (1) | 2006:12:25 14:31:35+01:00 |
DateTimeOriginal | 2006:12:25 14:31:35 |
Exposure | +0.54 |
ExposureCompensation | 0 |
ExposureMode | Manual |
ExposureProgram | Manual |
ExposureTime | 1/320 |
FillLight | 0 |
Firmware | 2.0.0 |
Flash | Off, Did not fire |
FlashCompensation | -2 |
FlashFired | False |
FlashFunction | False |
FlashMode | Off |
FlashRedEyeMode | False |
FlashReturn | No return detection |
FNumber | 9.0 |
FocalLength | 34.0 mm |
FocalLength35efl | 34.0 mm (35 mm equivalent: 54.5 mm) |
FOV | 36.6 deg |
GreenHue | 0 |
GreenSaturation | 0 |
HasCrop | True |
HasSettings | True |
HighlightRecovery | 7 |
HueAdjustmentAqua | 0 |
HueAdjustmentBlue | 0 |
HueAdjustmentGreen | 0 |
HueAdjustmentMagenta | 0 |
HueAdjustmentOrange | 0 |
HueAdjustmentPurple | 0 |
HueAdjustmentRed | 0 |
HueAdjustmentYellow | 0 |
HyperfocalDistance | 6.85 m |
ImageHeight | 600 |
ImageNumber | 140 |
ImageSize | 900x600 |
ImageWidth | 900 |
ISO | 800 |
Keywords | Hvalstrand, Tåke |
Lens | 18.0-55.0 mm |
LensInfo | 18-55mm f/? |
LightValue | 11.7 |
LuminanceAdjustmentAqua | 0 |
LuminanceAdjustmentBlue | 0 |
LuminanceAdjustmentGreen | 0 |
LuminanceAdjustmentMagenta | 0 |
LuminanceAdjustmentOrange | 0 |
LuminanceAdjustmentPurple | 0 |
LuminanceAdjustmentRed | 0 |
LuminanceAdjustmentYellow | 0 |
LuminanceSmoothing | 20 |
Make | Canon |
MaxApertureValue | 4.0 |
Megapixels | 0.540 |
MeteringMode | Multi-segment |
Model | Canon EOS 20D |
ModifyDate (1) | 2008:06:09 18:26:36+02:00 |
ModifyDate | 2008:06:09 18:26:36 |
OwnerName | unknown |
ParametricDarks | 0 |
ParametricHighlights | 0 |
ParametricHighlightSplit | 75 |
ParametricLights | 0 |
ParametricMidtoneSplit | 50 |
ParametricShadows | 0 |
ParametricShadowSplit | 25 |
PrivateRTKInfo | cHJpdmF0ZVJUS0luZm8gPSB7Cgl7CgkJZmxhdCA9IHsKCQkJIkh2YWxzdHJhbmQiLAoJCX0sCgkJcGF0aCA9IHsKCQkJIkh2YWxzdHJhbmQiLAoJCX0sCgkJcHJpbWFyeSA9ICJIdmFsc3RyYW5kIiwKCQl1dWlkID0gIkQwQjA1NzdELTI5OTktNEU0Ny1CMDgxLTQ4NjE2QkYxRDY2RiIsCgl9LAoJewoJCWZsYXQgPSB7CgkJCSJUw6VrZSIsCgkJfSwKCQlwYXRoID0gewoJCQkiVMOla2UiLAoJCX0sCgkJcHJpbWFyeSA9ICJUw6VrZSIsCgkJdXVpZCA9ICJBNDlBOTM3My0yQTc2LTQ0QzUtOUQzNi1ERUIxMUFCRjVGNjQiLAoJfSwKfQo= |
ProfileDescription | sRGB IEC61966-2.1 |
RedHue | 0 |
RedSaturation | 0 |
Rights | Harald Haakonsen |
Saturation | -100 |
SaturationAdjustmentAqua | 0 |
SaturationAdjustmentBlue | 0 |
SaturationAdjustmentGreen | 0 |
SaturationAdjustmentMagenta | 0 |
SaturationAdjustmentOrange | 0 |
SaturationAdjustmentPurple | 0 |
SaturationAdjustmentRed | 0 |
SaturationAdjustmentYellow | 0 |
ScaleFactor35efl | 1.6 |
SceneCaptureType | Standard |
SerialNumber | 530312943 |
Shadows | 27 |
ShadowTint | 0 |
Sharpness | 59 |
ShutterSpeed | 1/320 |
ShutterSpeedValue | 1/320 |
SplitToningBalance | 0 |
SplitToningHighlightHue | 0 |
SplitToningHighlightSaturation | 0 |
SplitToningShadowHue | 0 |
SplitToningShadowSaturation | 0 |
Subject | Hvalstrand, Tåke |
Tint | -2 |
ToneCurve | 0, 0, 32, 22, 64, 56, 128, 128, 192, 196, 255, 255 |
ToneCurveName | Medium Contrast |
Version | 1.0 |
Vibrance | 0 |
VignetteAmount | 0 |
WhiteBalance (2) | As Shot |
WhiteBalance | Auto |