Felt | Verdi |
AlreadyApplied | True |
Aperture | 22.0 |
ApertureValue | 22.0 |
BitsPerSample | 8 |
BlueHue | 0 |
BlueSaturation | 0 |
Brightness | +50 |
CameraProfile | Beta |
CFAPattern | [Red,Green][Green,Blue] |
ChromaticAberrationB | 0 |
ChromaticAberrationR | 0 |
CircleOfConfusion | 0.030 mm |
Clarity | +100 |
ColorComponents | 3 |
ColorMode | RGB |
ColorNoiseReduction | 25 |
ColorSpace | Uncalibrated |
ColorTemperature | 3850 |
Contrast (2) | +25 |
Contrast | Normal |
ConvertToGrayscale | False |
CreateDate (1) | 2008:12:25 10:42:54.08+01:00 |
CreateDate | 2008:12:25 10:42:54 |
CreatorTool | Ver.1.00 |
CustomRendered | Normal |
DateTimeDigitized | 2008:12:25 10:42:54.08+01:00 |
DateTimeOriginal (1) | 2008:12:25 10:42:54.08+01:00 |
DateTimeOriginal | 2008:12:25 10:42:54 |
Defringe | 0 |
DigitalZoomRatio | 1 |
ExifImageHeight | 2832 |
ExifImageWidth | 4256 |
Exposure | +0.05 |
ExposureCompensation | 0 |
ExposureMode | Manual |
ExposureProgram | Manual |
ExposureTime | 6 |
FillLight | 0 |
Flash | No Flash |
FlashFired | False |
FlashFunction | False |
FlashMode | Unknown |
FlashRedEyeMode | False |
FlashReturn | No return detection |
FNumber | 22.0 |
FocalLength | 24.0 mm |
FocalLength35efl | 24.0 mm (35 mm equivalent: 24.0 mm) |
FocalLengthIn35mmFormat | 24 mm |
Format | image/jpeg |
FOV | 73.7 deg |
GainControl | None |
GreenHue | 0 |
GreenSaturation | 0 |
HasCrop | False |
HasSettings | True |
HighlightRecovery | 100 |
HueAdjustmentAqua | 0 |
HueAdjustmentBlue | 0 |
HueAdjustmentGreen | 0 |
HueAdjustmentMagenta | 0 |
HueAdjustmentOrange | 0 |
HueAdjustmentPurple | 0 |
HueAdjustmentRed | 0 |
HueAdjustmentYellow | 0 |
HyperfocalDistance | 0.87 m |
ICCProfileName | Adobe RGB (1998) |
ImageHeight | 2832 |
ImageNumber | 1201 |
ImageSize | 4256x2832 |
ImageWidth | 4256 |
ISO | 100 |
Lens | 24.0-70.0 mm f/2.8 |
LensInfo | 24-70mm f/2.8 |
LightSource | Unknown |
LightValue | 6.3 |
LuminanceAdjustmentAqua | +100 |
LuminanceAdjustmentBlue | +18 |
LuminanceAdjustmentGreen | +100 |
LuminanceAdjustmentMagenta | 0 |
LuminanceAdjustmentOrange | +100 |
LuminanceAdjustmentPurple | 0 |
LuminanceAdjustmentRed | +100 |
LuminanceAdjustmentYellow | +100 |
LuminanceSmoothing | 0 |
Make | NIKON CORPORATION |
MaxApertureValue | 2.8 |
Megapixels | 12.1 |
MeteringMode | Spot |
Model | NIKON D700 |
ModifyDate (1) | 2008:12:26 15:53:12+01:00 |
ModifyDate | 2008:12:26 15:53:12 |
Orientation | Horizontal (normal) |
ParametricDarks | 0 |
ParametricHighlights | -100 |
ParametricHighlightSplit | 75 |
ParametricLights | 0 |
ParametricMidtoneSplit | 50 |
ParametricShadows | -25 |
ParametricShadowSplit | 25 |
PostCropVignetteAmount | 0 |
ProfileDescription | Adobe RGB (1998) |
Rating | 0 |
RawFileName | _DSC3761.NEF |
RedHue | 0 |
RedSaturation | 0 |
Saturation (2) | 0 |
Saturation | Normal |
SaturationAdjustmentAqua | 0 |
SaturationAdjustmentBlue | +50 |
SaturationAdjustmentGreen | -100 |
SaturationAdjustmentMagenta | -100 |
SaturationAdjustmentOrange | 0 |
SaturationAdjustmentPurple | -80 |
SaturationAdjustmentRed | -52 |
SaturationAdjustmentYellow | -35 |
ScaleFactor35efl | 1.0 |
SceneCaptureType | Standard |
SceneType | Directly photographed |
SensingMethod | One-chip color area |
SerialNumber | 2034083 |
Shadows | 0 |
ShadowTint | 0 |
SharpenDetail | 100 |
SharpenEdgeMasking | 15 |
SharpenRadius | +1.0 |
Sharpness (2) | 138 |
Sharpness | Normal |
ShutterSpeed | 6 |
ShutterSpeedValue | 6 |
SidecarForExtension | NEF |
Software | Adobe Photoshop CS4 Windows |
SplitToningBalance | 0 |
SplitToningHighlightHue | 0 |
SplitToningHighlightSaturation | 0 |
SplitToningShadowHue | 0 |
SplitToningShadowSaturation | 0 |
SubjectDistanceRange | Unknown |
Tint | -11 |
ToneCurve | 0, 0, 32, 22, 64, 56, 128, 128, 192, 196, 255, 255 |
ToneCurveName | Medium Contrast |
URL_List | |
Version | 5.0 |
Vibrance | -25 |
VignetteAmount | 0 |
WhiteBalance (2) | As Shot |
WhiteBalance | Auto |