Felt | Verdi |
AlreadyApplied | True |
Aperture | 4.0 |
ApertureValue | 4.0 |
BitsPerSample | 8 |
BlueHue | 0 |
BlueSaturation | 0 |
Brightness | +50 |
CameraProfile | ACR 4.4 |
CFAPattern | [Red,Green][Green,Blue] |
ChromaticAberrationB | 0 |
ChromaticAberrationR | 0 |
CircleOfConfusion | 0.020 mm |
Clarity | +33 |
ColorComponents | 3 |
ColorMode | RGB |
ColorNoiseReduction | 25 |
ColorSpace | Uncalibrated |
ColorTemperature | 5550 |
Contrast (2) | +71 |
Contrast | Normal |
ConvertToGrayscale | False |
CreateDate (1) | 2009:02:10 19:10:20.86+01:00 |
CreateDate | 2009:02:10 19:10:20 |
CreatorTool | Ver.1.00 |
CustomRendered | Normal |
DateTimeDigitized | 2009:02:10 19:10:20.86+01:00 |
DateTimeOriginal (1) | 2009:02:10 19:10:20.86+01:00 |
DateTimeOriginal | 2009:02:10 19:10:20 |
Defringe | 0 |
DigitalZoomRatio | 1 |
ExifImageHeight | 2848 |
ExifImageWidth | 4288 |
Exposure | 0.00 |
ExposureCompensation | -2 |
ExposureMode | Manual |
ExposureProgram | Manual |
ExposureTime | 1/160 |
FillLight | 17 |
Flash | On, Return not detected |
FlashFired | True |
FlashFunction | False |
FlashMode | On |
FlashRedEyeMode | False |
FlashReturn | Return not detected |
FNumber | 4.0 |
FocalLength | 24.0 mm |
FocalLength35efl | 24.0 mm (35 mm equivalent: 36.0 mm) |
FocalLengthIn35mmFormat | 36 mm |
Format | image/jpeg |
FOV | 53.1 deg |
GainControl | None |
GreenHue | 0 |
GreenSaturation | 0 |
HasCrop | False |
HasSettings | True |
HighlightRecovery | 0 |
HueAdjustmentAqua | 0 |
HueAdjustmentBlue | 0 |
HueAdjustmentGreen | 0 |
HueAdjustmentMagenta | 0 |
HueAdjustmentOrange | 0 |
HueAdjustmentPurple | 0 |
HueAdjustmentRed | 0 |
HueAdjustmentYellow | 0 |
HyperfocalDistance | 7.19 m |
ICCProfileName | Adobe RGB (1998) |
ImageHeight | 2848 |
ImageNumber | 31713 |
ImageSize | 4288x2848 |
ImageWidth | 4288 |
ISO | 200 |
Lens | 24.0-120.0 mm f/3.5-5.6 |
LensInfo | 24-120mm f/3.5-5.6 |
LightSource | Cloudy |
LightValue | 10.3 |
LuminanceAdjustmentAqua | 0 |
LuminanceAdjustmentBlue | 0 |
LuminanceAdjustmentGreen | 0 |
LuminanceAdjustmentMagenta | 0 |
LuminanceAdjustmentOrange | 0 |
LuminanceAdjustmentPurple | 0 |
LuminanceAdjustmentRed | 0 |
LuminanceAdjustmentYellow | 0 |
LuminanceSmoothing | 0 |
Make | NIKON CORPORATION |
MaxApertureValue | 3.5 |
Megapixels | 12.2 |
MeteringMode | Multi-segment |
Model | NIKON D300 |
ModifyDate (1) | 2009:02:11 00:16:43+01:00 |
ModifyDate | 2009:02:11 00:16:43 |
Orientation | Horizontal (normal) |
ParametricDarks | 0 |
ParametricHighlights | 0 |
ParametricHighlightSplit | 75 |
ParametricLights | 0 |
ParametricMidtoneSplit | 50 |
ParametricShadows | 0 |
ParametricShadowSplit | 25 |
PostCropVignetteAmount | 0 |
ProfileDescription | Adobe RGB (1998) |
Rating | 0 |
RawFileName | DSC_9829.NEF |
RedHue | 0 |
RedSaturation | 0 |
Saturation (2) | 0 |
Saturation | Normal |
SaturationAdjustmentAqua | 0 |
SaturationAdjustmentBlue | 0 |
SaturationAdjustmentGreen | 0 |
SaturationAdjustmentMagenta | 0 |
SaturationAdjustmentOrange | 0 |
SaturationAdjustmentPurple | 0 |
SaturationAdjustmentRed | 0 |
SaturationAdjustmentYellow | 0 |
ScaleFactor35efl | 1.5 |
SceneCaptureType | Standard |
SceneType | Directly photographed |
SensingMethod | One-chip color area |
SerialNumber | 4097346 |
Shadows | 5 |
ShadowTint | 0 |
SharpenDetail | 25 |
SharpenEdgeMasking | 0 |
SharpenRadius | +1.0 |
Sharpness (2) | 25 |
Sharpness | Normal |
ShutterSpeed | 1/160 |
ShutterSpeedValue | 1/160 |
SidecarForExtension | NEF |
Software | Adobe Photoshop CS4 Windows |
SplitToningBalance | 0 |
SplitToningHighlightHue | 0 |
SplitToningHighlightSaturation | 0 |
SplitToningShadowHue | 0 |
SplitToningShadowSaturation | 0 |
SubjectDistanceRange | Unknown |
Tint | -1 |
ToneCurve | 0, 0, 32, 22, 64, 56, 128, 128, 192, 196, 255, 255 |
ToneCurveName | Medium Contrast |
URL_List | |
Version | 5.0 |
Vibrance | 0 |
VignetteAmount | 0 |
WhiteBalance (2) | As Shot |
WhiteBalance | Manual |