Felt | Verdi |
AlreadyApplied | True |
Aperture | 5.6 |
ApertureValue | 5.6 |
BitsPerSample (1) | 16, 16, 16 |
BitsPerSample (2) | 16 16 16 |
BitsPerSample | 8 |
BlueHue | +11 |
BlueSaturation | -81 |
Brightness | +25 |
CameraProfile | Embedded |
ChromaticAberrationB | +2 |
ChromaticAberrationR | -7 |
CircleOfConfusion | 0.019 mm |
Clarity | +38 |
ColorComponents | 3 |
ColorMode | RGB |
ColorNoiseReduction | 67 |
ColorSpace (1) | Unknown (-1) |
ColorSpace | Uncalibrated |
Contrast | +79 |
ConvertToGrayscale | False |
CopyrightFlag | False |
CreateDate (1) | 2009:02:22 01:36:52+01:00 |
CreateDate | 2009:03:02 20:18:54 |
CreatorTool | Adobe Photoshop CS3 Windows |
CustomRendered | Normal |
DateTimeDigitized | 2009:03:02 20:18:54+01:00 |
DateTimeOriginal (1) | 2009:03:02 20:18:54+01:00 |
DateTimeOriginal | 2009:03:02 20:18:54 |
Defringe | 0 |
ExifImageHeight | 1944 |
ExifImageWidth | 1296 |
Exposure | +0.29 |
ExposureCompensation | 0 |
ExposureMode | Auto |
ExposureProgram | Aperture-priority AE |
ExposureTime | 1/250 |
FillLight | 36 |
Flash | Off, Did not fire |
FlashFired | False |
FlashFunction | False |
FlashMode | Off |
FlashRedEyeMode | False |
FlashReturn | No return detection |
FNumber | 5.6 |
FocalLength | 55.0 mm |
FocalLength35efl | 55.0 mm (35 mm equivalent: 89.0 mm) |
Format | image/jpeg |
FOV | 22.9 deg |
GreenHue | +16 |
GreenSaturation | +51 |
HasCrop | False |
HasSettings | True |
HighlightRecovery | 54 |
HueAdjustmentAqua | 0 |
HueAdjustmentBlue | +100 |
HueAdjustmentGreen | -1 |
HueAdjustmentMagenta | +24 |
HueAdjustmentOrange | +15 |
HueAdjustmentPurple | -55 |
HueAdjustmentRed | +33 |
HueAdjustmentYellow | 0 |
HyperfocalDistance | 29.10 m |
ICCProfileName | ProPhoto RGB |
ImageHeight (1) | 3888 |
ImageHeight | 1944 |
ImageSize | 1296x1944 |
ImageWidth (1) | 2592 |
ImageWidth | 1296 |
IncrementalTemperature | +33 |
IncrementalTint | 0 |
ISO | 1600 |
LightValue | 8.9 |
LuminanceAdjustmentAqua | 0 |
LuminanceAdjustmentBlue | 0 |
LuminanceAdjustmentGreen | 0 |
LuminanceAdjustmentMagenta | -100 |
LuminanceAdjustmentOrange | 0 |
LuminanceAdjustmentPurple | 0 |
LuminanceAdjustmentRed | +69 |
LuminanceAdjustmentYellow | 0 |
LuminanceSmoothing | 55 |
Make | Canon |
Megapixels | 2.5 |
MeteringMode | Average |
Model | Canon EOS 400D DIGITAL |
ModifyDate (1) | 2009:02:22 01:36:52+01:00 |
ModifyDate | 2009:02:22 01:36:52 |
Orientation | Horizontal (normal) |
ParametricDarks | 0 |
ParametricHighlights | 0 |
ParametricHighlightSplit | 75 |
ParametricLights | -2 |
ParametricMidtoneSplit | 50 |
ParametricShadows | 0 |
ParametricShadowSplit | 25 |
PhotometricInterpretation | RGB |
PlanarConfiguration | Chunky |
PostCropVignetteAmount | 0 |
ProfileDescription | ProPhoto RGB |
RedHue | +23 |
RedSaturation | +10 |
SamplesPerPixel | 3 |
Saturation | +10 |
SaturationAdjustmentAqua | -60 |
SaturationAdjustmentBlue | -2 |
SaturationAdjustmentGreen | -69 |
SaturationAdjustmentMagenta | +100 |
SaturationAdjustmentOrange | +79 |
SaturationAdjustmentPurple | -36 |
SaturationAdjustmentRed | +100 |
SaturationAdjustmentYellow | -83 |
ScaleFactor35efl | 1.6 |
SceneCaptureType | Standard |
Shadows | 27 |
ShadowTint | +4 |
SharpenDetail | 25 |
SharpenEdgeMasking | 29 |
SharpenRadius | +1.0 |
Sharpness | 150 |
ShutterSpeed | 1/250 |
ShutterSpeedValue | 1/250 |
Software | Adobe Photoshop CS3 Windows |
SplitToningBalance | -43 |
SplitToningHighlightHue | 244 |
SplitToningHighlightSaturation | 76 |
SplitToningShadowHue | 240 |
SplitToningShadowSaturation | 35 |
ToneCurve | 0, 0, 255, 255 |
ToneCurveName | Linear |
URL_List | |
Version | 5.3 |
Vibrance | +19 |
VignetteAmount | -100 |
VignetteMidpoint | 13 |
WhiteBalance (2) | Custom |
WhiteBalance | Auto |