Felt | Verdi |
AlreadyApplied | True |
Aperture | 5.6 |
ApertureValue | 5.6 |
BitsPerSample | 8 |
BlueHue | 0 |
BlueSaturation | 0 |
Brightness | 0 |
CameraProfile | ACR 2.4 |
CFAPattern | [Green,Blue][Red,Green] |
ChromaticAberrationB | 0 |
ChromaticAberrationR | 0 |
CircleOfConfusion | 0.020 mm |
Clarity | 37 |
ColorComponents | 3 |
ColorNoiseReduction | 0 |
ColorTemperature | 6043 |
Contrast (2) | 0 |
Contrast | Normal |
ConvertToGrayscale | False |
Copyright | BT Dorum |
CopyrightNotice | BT D¿rum |
CreateDate | 2009:03:15 14:26:59 |
CreatorTool | Adobe Photoshop Lightroom |
CropAngle | 0 |
CropBottom | 1 |
CropHeight | 2008 |
CropLeft | 0.03059 |
CropRight | 0.805181 |
CropTop | 0.225409 |
CropUnit | pixels |
CropWidth | 2999 |
CustomRendered | Normal |
DateTimeDigitized | 2009:03:15 14:26:59.20+01:00 |
DateTimeOriginal (1) | 2009:03:15 14:26:59.20+01:00 |
DateTimeOriginal | 2009:03:15 14:26:59 |
Defringe | 0 |
DigitalZoomRatio | 1 |
Exposure | +1.28 |
ExposureCompensation | 0 |
ExposureMode | Auto |
ExposureProgram | Aperture-priority AE |
ExposureTime | 1/400 |
FillLight | 47 |
Flash | No Flash |
FlashFired | False |
FlashFunction | False |
FlashMode | Unknown |
FlashRedEyeMode | False |
FlashReturn | No return detection |
FNumber | 5.6 |
FocalLength | 48.0 mm |
FocalLength35efl | 48.0 mm (35 mm equivalent: 72.0 mm) |
FocalLengthIn35mmFormat | 72 mm |
FOV | 28.1 deg |
GainControl | None |
GreenHue | 0 |
GreenSaturation | 0 |
HasCrop | True |
HasSettings | True |
HighlightRecovery | 0 |
HueAdjustmentAqua | 0 |
HueAdjustmentBlue | 0 |
HueAdjustmentGreen | 0 |
HueAdjustmentMagenta | 0 |
HueAdjustmentOrange | 0 |
HueAdjustmentPurple | 0 |
HueAdjustmentRed | 0 |
HueAdjustmentYellow | 0 |
HyperfocalDistance | 20.54 m |
ImageHeight | 2008 |
ImageNumber | 1216 |
ImageSize | 2999x2008 |
ImageWidth | 2999 |
ISO | 100 |
Keywords | Fenris, Winter |
Lens | 18.0-55.0 mm f/3.5-5.6 |
LensInfo | 18-55mm f/3.5-5.6 |
LightSource | Fine Weather |
LightValue | 13.6 |
LuminanceAdjustmentAqua | 0 |
LuminanceAdjustmentBlue | -29 |
LuminanceAdjustmentGreen | 0 |
LuminanceAdjustmentMagenta | 0 |
LuminanceAdjustmentOrange | -26 |
LuminanceAdjustmentPurple | -1 |
LuminanceAdjustmentRed | 0 |
LuminanceAdjustmentYellow | -23 |
LuminanceSmoothing | 0 |
Make | NIKON CORPORATION |
MaxApertureValue | 5.5 |
Megapixels | 6.0 |
MeteringMode | Center-weighted average |
Model | NIKON D60 |
ModifyDate (1) | 2009:03:24 19:14:31+01:00 |
ModifyDate | 2009:03:24 19:14:31 |
ObjectName | Fenris portrett |
ParametricDarks | +69 |
ParametricHighlights | -16 |
ParametricHighlightSplit | 75 |
ParametricLights | +39 |
ParametricMidtoneSplit | 50 |
ParametricShadows | -36 |
ParametricShadowSplit | 25 |
ProfileDescription | sRGB IEC61966-2.1 |
Rating | 4 |
RedHue | 0 |
RedSaturation | 0 |
Rights | BT Dørum |
Saturation (2) | +11 |
Saturation | Normal |
SaturationAdjustmentAqua | 0 |
SaturationAdjustmentBlue | +19 |
SaturationAdjustmentGreen | 0 |
SaturationAdjustmentMagenta | 0 |
SaturationAdjustmentOrange | -12 |
SaturationAdjustmentPurple | +1 |
SaturationAdjustmentRed | 0 |
SaturationAdjustmentYellow | 0 |
ScaleFactor35efl | 1.5 |
SceneCaptureType | Standard |
SceneType | Directly photographed |
SensingMethod | One-chip color area |
SerialNumber | 6420654 |
Shadows | 9 |
ShadowTint | 0 |
SharpenDetail | 50 |
SharpenEdgeMasking | 70 |
SharpenRadius | +1.0 |
Sharpness (2) | 41 |
Sharpness | Normal |
ShutterSpeed | 1/400 |
ShutterSpeedValue | 1/400 |
Software | Ver.1.01 |
SplitToningBalance | 0 |
SplitToningHighlightHue | 0 |
SplitToningHighlightSaturation | 0 |
SplitToningShadowHue | 0 |
SplitToningShadowSaturation | 0 |
Subject | Fenris, Winter |
SubjectDistanceRange | Unknown |
Tint | 0 |
Title | Fenris portrett |
ToneCurve | 0, 0, 255, 255 |
ToneCurveName | Linear |
Version | 4.4.1 |
Vibrance | +32 |
VignetteAmount | 0 |
WhiteBalance (2) | Custom |
WhiteBalance | Manual |