Felt | Verdi |
AlreadyApplied | True |
BitsPerSample | 8 |
BlueHue | 0 |
BlueSaturation | 0 |
Brightness | +50 |
CameraProfile | ACR 4.4 |
CFAPattern | [Green,Blue][Red,Green] |
ChromaticAberrationB | 0 |
ChromaticAberrationR | 0 |
Clarity | +82 |
ColorComponents | 3 |
ColorMode | RGB |
ColorNoiseReduction | 25 |
ColorSpace | sRGB |
ColorTemperature | 5800 |
Contrast (2) | +83 |
Contrast | High |
ConvertToGrayscale | False |
CopyrightFlag | False |
CreateDate (1) | 2009:08:28 01:27:20+02:00 |
CreateDate | 2009:08:27 17:48:17 |
CreatorTool | Adobe Photoshop Elements 7.0 Windows |
CustomRendered | Custom |
DateTimeDigitized | 2009:08:27 17:48:17.50+02:00 |
DateTimeOriginal (1) | 2009:08:27 17:48:17.50+02:00 |
DateTimeOriginal | 2009:08:27 17:48:17 |
Defringe | 0 |
DigitalZoomRatio | 1 |
ExifImageHeight | 662 |
ExifImageWidth | 956 |
Exposure | +0.10 |
ExposureCompensation | +2/3 |
ExposureMode | Manual |
ExposureProgram | Manual |
ExposureTime | 25 |
FillLight | 8 |
Flash | No Flash |
FlashFired | False |
FlashFunction | False |
FlashMode | Unknown |
FlashRedEyeMode | False |
FlashReturn | No return detection |
Format | image/jpeg |
GainControl | None |
GreenHue | 0 |
GreenSaturation | 0 |
HasCrop | False |
HasSettings | True |
HighlightRecovery | 0 |
HueAdjustmentAqua | 0 |
HueAdjustmentBlue | 0 |
HueAdjustmentGreen | 0 |
HueAdjustmentMagenta | 0 |
HueAdjustmentOrange | 0 |
HueAdjustmentPurple | 0 |
HueAdjustmentRed | 0 |
HueAdjustmentYellow | 0 |
ICCProfileName | sRGB IEC61966-2.1 |
ImageHeight | 662 |
ImageNumber | 7773 |
ImageSize | 956x662 |
ImageWidth | 956 |
ISO | 200 |
LightSource | Cloudy |
LuminanceAdjustmentAqua | 0 |
LuminanceAdjustmentBlue | 0 |
LuminanceAdjustmentGreen | 0 |
LuminanceAdjustmentMagenta | 0 |
LuminanceAdjustmentOrange | 0 |
LuminanceAdjustmentPurple | 0 |
LuminanceAdjustmentRed | 0 |
LuminanceAdjustmentYellow | 0 |
LuminanceSmoothing | 0 |
Make | NIKON CORPORATION |
MaxApertureValue | 1.0 |
Megapixels | 0.633 |
MeteringMode | Center-weighted average |
Model | NIKON D60 |
ModifyDate (1) | 2009:08:28 01:27:20+02:00 |
ModifyDate | 2009:08:28 01:27:20 |
Orientation | Horizontal (normal) |
ParametricDarks | 0 |
ParametricHighlights | 0 |
ParametricHighlightSplit | 75 |
ParametricLights | 0 |
ParametricMidtoneSplit | 50 |
ParametricShadows | 0 |
ParametricShadowSplit | 25 |
PostCropVignetteAmount | 0 |
ProfileDescription | sRGB IEC61966-2.1 |
Rating | 0 |
RatingPercent | 0 |
RawFileName | DSC_0204.NEF |
RedHue | 0 |
RedSaturation | 0 |
Saturation (2) | +17 |
Saturation | Normal |
SaturationAdjustmentAqua | 0 |
SaturationAdjustmentBlue | 0 |
SaturationAdjustmentGreen | 0 |
SaturationAdjustmentMagenta | 0 |
SaturationAdjustmentOrange | 0 |
SaturationAdjustmentPurple | 0 |
SaturationAdjustmentRed | 0 |
SaturationAdjustmentYellow | 0 |
SceneCaptureType | Standard |
SceneType | Directly photographed |
SensingMethod | One-chip color area |
SerialNumber | 6242280 |
Shadows | 18 |
ShadowTint | 0 |
SharpenDetail | 25 |
SharpenEdgeMasking | 0 |
SharpenRadius | +1.0 |
Sharpness (2) | 25 |
Sharpness | Normal |
ShutterSpeed | 25 |
ShutterSpeedValue | 25 |
SidecarForExtension | NEF |
Software | Adobe Photoshop Elements 7.0 Windows |
SplitToningBalance | 0 |
SplitToningHighlightHue | 0 |
SplitToningHighlightSaturation | 0 |
SplitToningShadowHue | 0 |
SplitToningShadowSaturation | 0 |
SubjectDistanceRange | Unknown |
Tint | -3 |
ToneCurve | 0, 0, 32, 22, 64, 56, 128, 128, 192, 196, 255, 255 |
ToneCurveName | Medium Contrast |
URL_List | |
Version | 4.5 |
Vibrance | 0 |
VignetteAmount | 0 |
WhiteBalance (2) | Custom |
WhiteBalance | Manual |