Felt | Verdi |
AlreadyApplied | True |
Aperture | 2.8 |
ApertureValue | 2.8 |
Artist | Lasse B Rossing |
BitsPerSample | 8 |
BlueHue | 0 |
BlueSaturation | 0 |
Brightness | +65 |
By-line | Lasse B Rossing |
CameraProfile | ACR 4.4 |
ChromaticAberrationB | 0 |
ChromaticAberrationR | 0 |
CircleOfConfusion | 0.030 mm |
Clarity | 0 |
ColorComponents | 1 |
ColorMode | RGB |
ColorNoiseReduction | 25 |
ColorSpace | Uncalibrated |
ColorTemperature | 5600 |
Contrast | +46 |
ConvertToGrayscale | True |
CreateDate (1) | 2009:08:27 20:53:01+02:00 |
CreateDate | 2008:07:08 13:06:49 |
Creator | Lasse B Rossing |
CreatorTool | Adobe Photoshop CS3 Windows |
CropAngle | 0.452059 |
CropBottom | 0.880391 |
CropLeft | 0.08119 |
CropRight | 0.990424 |
CropTop | 0.20457 |
CustomRendered | Normal |
DateTimeDigitized | 2008:07:08 13:06:49.00+02:00 |
DateTimeOriginal (1) | 2008:07:08 13:06:49.00+02:00 |
DateTimeOriginal | 2008:07:08 13:06:49 |
Defringe | 0 |
ExifImageHeight | 971 |
ExifImageWidth | 2000 |
Exposure | +0.20 |
ExposureCompensation | 0 |
ExposureMode | Auto |
ExposureProgram | Aperture-priority AE |
ExposureTime | 1/8000 |
FillLight | 20 |
Firmware | 1.1.2 |
Flash | No Flash |
FlashCompensation | 0 |
FlashFired | False |
FlashFunction | False |
FlashMode | Unknown |
FlashRedEyeMode | False |
FlashReturn | No return detection |
FNumber | 2.8 |
FocalLength | 200.0 mm |
FocalLength35efl | 200.0 mm (35 mm equivalent: 199.8 mm) |
Format | image/jpeg |
FOV | 10.3 deg |
GrayMixerAqua | -16 |
GrayMixerBlue | -1 |
GrayMixerGreen | -29 |
GrayMixerMagenta | +6 |
GrayMixerOrange | -22 |
GrayMixerPurple | -37 |
GrayMixerRed | -12 |
GrayMixerYellow | +68 |
GreenHue | 0 |
GreenSaturation | 0 |
HasCrop | True |
HasSettings | True |
HighlightRecovery | 0 |
HyperfocalDistance | 475.05 m |
ICCProfileName | Adobe RGB (1998) |
ImageHeight | 971 |
ImageNumber | 0 |
ImageSize | 2000x971 |
ImageWidth | 2000 |
ISO | 160 |
Lens | EF70-200mm f/2.8L IS USM |
LensInfo | 70-200mm f/? |
LightValue | 15.3 |
LuminanceSmoothing | 0 |
Make | Canon |
MaxApertureValue | 2.8 |
Megapixels | 1.9 |
MeteringMode | Spot |
Model | Canon EOS-1Ds Mark III |
ModifyDate (1) | 2009:09:22 22:46:35+02:00 |
ModifyDate | 2009:09:22 22:46:35 |
Orientation | Horizontal (normal) |
OwnerName | Lasse B Rossing |
ParametricDarks | +15 |
ParametricHighlights | +46 |
ParametricHighlightSplit | 75 |
ParametricLights | -12 |
ParametricMidtoneSplit | 50 |
ParametricShadows | 0 |
ParametricShadowSplit | 25 |
PostCropVignetteAmount | 0 |
ProfileDescription | Adobe RGB (1998) |
Rating | 5 |
RawFileName | _88X5464.CR2 |
RedHue | 0 |
RedSaturation | 0 |
ScaleFactor35efl | 1.0 |
SceneCaptureType | Standard |
SerialNumber | 622768 |
Shadows | 6 |
ShadowTint | 0 |
SharpenDetail | 10 |
SharpenEdgeMasking | 0 |
SharpenRadius | +1.0 |
Sharpness | 116 |
ShutterSpeed | 1/8000 |
ShutterSpeedValue | 1/8000 |
SidecarForExtension | CR2 |
Software | Adobe Photoshop CS4 Windows |
SplitToningBalance | 0 |
SplitToningHighlightHue | 0 |
SplitToningHighlightSaturation | 0 |
SplitToningShadowHue | 0 |
SplitToningShadowSaturation | 0 |
Tint | +10 |
ToneCurve | 0, 0, 32, 22, 64, 56, 128, 128, 192, 196, 255, 255 |
ToneCurveName | Medium Contrast |
URL_List | |
Version | 4.6 |
VignetteAmount | 0 |
WhiteBalance (2) | Custom |
WhiteBalance | Auto |