Felt | Verdi |
AlreadyApplied | True |
Aperture | 1.6 |
ApertureValue | 1.6 |
BitsPerSample | 8 |
BlueHue | 0 |
BlueSaturation | 0 |
Brightness | 0 |
CameraProfile | ACR 4.4 |
ChromaticAberrationB | 0 |
ChromaticAberrationR | 0 |
CircleOfConfusion | 0.030 mm |
Clarity | +26 |
ColorComponents | 1 |
ColorNoiseReduction | 25 |
ColorTemperature | 23810 |
Contrast | +48 |
ConvertToGrayscale | True |
CreateDate (1) | 2010:01:20 19:25:46+01:00 |
CreateDate | 2010:01:20 19:25:46 |
CreatorTool | Adobe Photoshop Lightroom |
CropAngle | 0 |
CropBottom | 1 |
CropHeight | 2912 |
CropLeft | 0 |
CropRight | 0.666667 |
CropTop | 0 |
CropUnit | pixels |
CropWidth | 2912 |
CustomRendered | Normal |
DateTimeDigitized | 2010:01:20 19:25:46+01:00 |
DateTimeOriginal (1) | 2010:01:20 19:25:46+01:00 |
DateTimeOriginal | 2010:01:20 19:25:46 |
Defringe | 0 |
ExifImageHeight | 2912 |
ExifImageWidth | 2912 |
Exposure | -0.38 |
ExposureCompensation | 0 |
ExposureMode | Manual |
ExposureProgram | Manual |
ExposureTime | 1/50 |
FillLight | 19 |
Firmware | 1.0.1 |
Flash | Off, Did not fire |
FlashCompensation | 0 |
FlashFired | False |
FlashFunction | False |
FlashMode | Off |
FlashRedEyeMode | False |
FlashReturn | No return detection |
FNumber | 1.6 |
FocalLength | 85.0 mm |
FocalLength35efl | 85.0 mm (35 mm equivalent: 85.2 mm) |
FOV | 23.9 deg |
GrayMixerAqua | -22 |
GrayMixerBlue | 0 |
GrayMixerGreen | -19 |
GrayMixerMagenta | +8 |
GrayMixerOrange | -5 |
GrayMixerPurple | +10 |
GrayMixerRed | +3 |
GrayMixerYellow | -9 |
GreenHue | 0 |
GreenSaturation | 0 |
HasCrop | True |
HasSettings | True |
HierarchicalSubject | 2010, Mathias, bading |
HighlightRecovery | 0 |
HyperfocalDistance | 150.60 m |
ImageHeight | 2912 |
ImageNumber | 13 |
ImageSize | 2912x2912 |
ImageWidth | 2912 |
ISO | 800 |
Keywords | 2010, Mathias, bading |
Lens | 85.0 mm |
LensInfo | 85mm f/? |
LightValue | 4.0 |
LuminanceSmoothing | 75 |
Make | Canon |
MaxApertureValue | 1.2 |
Megapixels | 8.5 |
MeteringMode | Multi-segment |
Model | Canon EOS 5D |
ModifyDate (1) | 2010:01:21 19:40:57+01:00 |
ModifyDate | 2010:01:21 19:40:57 |
ParametricDarks | +45 |
ParametricHighlights | +36 |
ParametricHighlightSplit | 75 |
ParametricLights | +21 |
ParametricMidtoneSplit | 50 |
ParametricShadows | -10 |
ParametricShadowSplit | 25 |
PostCropVignetteAmount | 0 |
ProfileDescription | sRGB IEC61966-2.1 |
Rating | 5 |
RedHue | 0 |
RedSaturation | 0 |
ScaleFactor35efl | 1.0 |
SceneCaptureType | Standard |
SerialNumber | 630309455 |
Shadows | 8 |
ShadowTint | 0 |
SharpenDetail | 25 |
SharpenEdgeMasking | 0 |
SharpenRadius | +0.9 |
Sharpness | 66 |
ShutterSpeed | 1/50 |
ShutterSpeedValue | 1/50 |
SplitToningBalance | 0 |
SplitToningHighlightHue | 0 |
SplitToningHighlightSaturation | 0 |
SplitToningShadowHue | 0 |
SplitToningShadowSaturation | 0 |
Subject | 2010, Mathias, bading |
Tint | +2 |
ToneCurve | 0, 0, 32, 22, 64, 56, 128, 128, 192, 196, 255, 255 |
ToneCurveName | Medium Contrast |
Version | 4.5 |
VignetteAmount | 0 |
WhiteBalance (2) | Custom |
WhiteBalance | Auto |