Felt | Verdi |
AlreadyApplied | True |
Aperture | 16.0 |
ApertureValue | 16.0 |
BitsPerSample | 8 |
BlackClip | 0.595150 |
BlueHue | 0 |
BlueSaturation | 0 |
Brightness | +64 |
CameraProfile | Embedded |
ChromaticAberrationB | 0 |
ChromaticAberrationR | 0 |
Clarity | -100 |
ColorComponents | 3 |
ColorMode | RGB |
ColorNoiseReduction | 0 |
ColorSaturation | 65.0 |
ColorSpace | sRGB |
ColorTemperature | 4.0 |
Contrast | -8 |
ConvertToGrayscale | False |
CreateDate | 2009:10:24 06:45:59+02:00 |
CreatorTool | Adobe Photoshop Lightroom |
CropAngle | -1.24536 |
CropBottom | 0.968129 |
CropHeight | 1080 |
CropLeft | 0.008986 |
CropRight | 0.991014 |
CropTop | 0.031871 |
CropUnit | pixels |
CropWidth | 1635 |
DateTimeOriginal (1) | 2009:10:24 06:45:59+02:00 |
DateTimeOriginal | 2009:10:24 06:45:59 |
Defringe | 0 |
ExifImageHeight | 922 |
ExifImageWidth | 2000 |
Exposure | 0.00 |
ExposureTime | 1/400 |
FillLight | 0 |
FNumber | 16.0 |
FocalLength | 18.0 mm |
FocalLength35efl | 18.0 mm |
Format | image/jpeg |
Gamma | 1.2 |
GradientBasedCorrActive | true |
GradientBasedCorrAmount | 1.000000 |
GradientBasedCorrBrightness | -0.700000 |
GradientBasedCorrClarity | 1.000000 |
GradientBasedCorrContrast | 0.025000 |
GradientBasedCorrExposure | 0.000000 |
GradientBasedCorrHue | 241.000000 |
GradientBasedCorrMaskFullX | 0.391942 |
GradientBasedCorrMaskFullY | 0.029908 |
GradientBasedCorrMaskValue | 1.000000 |
GradientBasedCorrMaskWhat | Mask/Gradient |
GradientBasedCorrMaskZeroX | 0.405076 |
GradientBasedCorrMaskZeroY | 0.863240 |
GradientBasedCorrSaturation | 0.000000 |
GradientBasedCorrSharpness | 0.000000 |
GradientBasedCorrWhat | Correction |
GreenHue | 0 |
GreenSaturation | 0 |
HasCrop | True |
HasSettings | True |
HighlightRecovery | 100 |
HighlightsSmoothing | 34.0 |
HueAdjustmentAqua | 0 |
HueAdjustmentBlue | 0 |
HueAdjustmentGreen | 0 |
HueAdjustmentMagenta | 0 |
HueAdjustmentOrange | 0 |
HueAdjustmentPurple | 0 |
HueAdjustmentRed | 0 |
HueAdjustmentYellow | 0 |
ICCProfileName | sRGB IEC61966-2.1 |
ImageHeight (1) | 1080 |
ImageHeight | 922 |
ImageSize | 2000x922 |
ImageWidth (1) | 1635 |
ImageWidth | 2000 |
IncrementalTemperature | 0 |
IncrementalTint | 0 |
ISO | 200 |
LightValue | 15.6 |
LuminanceAdjustmentAqua | 0 |
LuminanceAdjustmentBlue | 0 |
LuminanceAdjustmentGreen | 0 |
LuminanceAdjustmentMagenta | 0 |
LuminanceAdjustmentOrange | 0 |
LuminanceAdjustmentPurple | 0 |
LuminanceAdjustmentRed | 0 |
LuminanceAdjustmentYellow | 0 |
LuminanceSmoothing | 0 |
Luminosity | -2.6 |
Megapixels | 1.8 |
Method | Details Enhancer |
Microcontrast | 6.5 |
Microsmoothing | 23.6 |
Model | NIKON D300 |
ModifyDate (1) | 2009:11:19 02:17:39+01:00 |
ModifyDate | 2009:11:19 02:17:39 |
Orientation | Horizontal (normal) |
ParametricDarks | 0 |
ParametricHighlights | 0 |
ParametricHighlightSplit | 75 |
ParametricLights | 0 |
ParametricMidtoneSplit | 50 |
ParametricShadows | 0 |
ParametricShadowSplit | 25 |
PostCropVignetteAmount | 0 |
ProfileDescription | sRGB IEC61966-2.1 |
RedHue | 0 |
RedSaturation | 0 |
Saturation | 0 |
SaturationAdjustmentAqua | 0 |
SaturationAdjustmentBlue | 0 |
SaturationAdjustmentGreen | 0 |
SaturationAdjustmentMagenta | 0 |
SaturationAdjustmentOrange | 0 |
SaturationAdjustmentPurple | 0 |
SaturationAdjustmentRed | 0 |
SaturationAdjustmentYellow | 0 |
SaturationHighlights | 1.3 |
SaturationShadows | -0.6 |
Shadows | 0 |
ShadowsClipping | 56.0 |
ShadowsSmoothing | 11.0 |
ShadowTint | 0 |
SharpenDetail | 25 |
SharpenEdgeMasking | 0 |
SharpenRadius | +1.0 |
Sharpness | 0 |
ShutterSpeed | 1/400 |
ShutterSpeedValue | 1/400 |
Smoothing | High |
Software | Adobe Photoshop CS4 Windows |
SplitToningBalance | 0 |
SplitToningHighlightHue | 0 |
SplitToningHighlightSaturation | 0 |
SplitToningShadowHue | 0 |
SplitToningShadowSaturation | 0 |
Strength | 100.0 |
ToneCurve | 0, 0, 32, 22, 64, 56, 128, 128, 192, 196, 255, 255 |
ToneCurveName | Medium Contrast |
URL_List | |
Version (1) | 3.2 |
Version | 5.5 |
Vibrance | +31 |
VignetteAmount | -20 |
VignetteMidpoint | 40 |
WhiteBalance | As Shot |
WhiteClip | 0.785800 |