Felt | Verdi |
AlreadyApplied | True |
Aperture | 11.0 |
ApertureValue | 11.0 |
Artist | Havenstrøm Foto |
BitsPerSample | 8 |
BlueHue | 0 |
BlueSaturation | 0 |
Brightness | +50 |
By-line | Havenstr¿m Foto |
CameraProfile | ACR 4.4 |
Caption-Abstract | OLYMPUS DIGITAL CAMERA |
CFAPattern | [Red,Green][Green,Blue] |
ChromaticAberrationB | 0 |
ChromaticAberrationR | 0 |
Clarity | +33 |
ColorComponents | 1 |
ColorMode | Grayscale |
ColorNoiseReduction | 25 |
ColorSpace | Uncalibrated |
ColorTemperature | 4650 |
Contrast (2) | +40 |
Contrast | Normal |
ConvertToGrayscale | True |
Copyright | Copyright belongs to Havenstrøm Foto DA |
CopyrightNotice | Copyright belongs to Havenstr¿m Foto DA |
CreateDate | 2006:12:31 23:00+01:00 |
Creator | Havenstrøm Foto |
CreatorAddress | Porsnesbakken 2 |
CreatorCity | Halden |
CreatorPostalCode | 1772 |
CreatorTool | Version 1.4 |
CreatorWorkTelephone | +4799482483 |
CropAngle | 0.864682 |
CropBottom | 0.974751 |
CropHeight | 40 |
CropLeft | 0.036618 |
CropRight | 0.869284 |
CropTop | 0.058758 |
CropUnit | cm |
CropWidth | 50 |
CustomRendered | Normal |
Defringe | 0 |
Description | OLYMPUS DIGITAL CAMERA |
DigitalZoomRatio | 1 |
ExifImageHeight | 1968 |
ExifImageWidth | 1575 |
Exposure | +0.10 |
ExposureCompensation | 0 |
ExposureMode | Manual |
ExposureProgram | Manual |
ExposureTime | 1/100 |
FillLight | 2 |
Flash | On, Did not fire |
FlashCompensation | 0 |
FlashFired | False |
FlashFunction | False |
FlashMode | On |
FlashRedEyeMode | False |
FlashReturn | No return detection |
FNumber | 11.0 |
FocalLength | 36.0 mm |
FocalLength35efl | 36.0 mm |
Format | image/jpeg |
GainControl | None |
GrayMixerAqua | -19 |
GrayMixerBlue | +9 |
GrayMixerGreen | -26 |
GrayMixerMagenta | +5 |
GrayMixerOrange | -16 |
GrayMixerPurple | +16 |
GrayMixerRed | -7 |
GrayMixerYellow | -22 |
GreenHue | 0 |
GreenSaturation | 0 |
HasCrop | True |
HasSettings | True |
HighlightRecovery | 9 |
ICCProfileName | Gray Gamma 2.2 |
ImageDescription | OLYMPUS DIGITAL CAMERA |
ImageHeight | 1968 |
ImageSize | 1575x1968 |
ImageWidth | 1575 |
ISO | 100 |
Label | Select |
Lens | 12.0-60.0 mm f/2.8-4.0 |
LensInfo | 12-60mm f/2.8-4 |
LensSerialNumber | 230032581 |
LightSource | Unknown |
LightValue | 13.6 |
LuminanceSmoothing | 0 |
Make | OLYMPUS IMAGING CORP. |
MaxApertureValue | 2.8 |
Megapixels | 3.1 |
MeteringMode | Center-weighted average |
Model | E-3 |
ModifyDate (1) | 2010:04:07 18:36:27+02:00 |
ModifyDate | 2010:04:07 18:36:27 |
Orientation | Horizontal (normal) |
ParametricDarks | 0 |
ParametricHighlights | 0 |
ParametricHighlightSplit | 75 |
ParametricLights | 0 |
ParametricMidtoneSplit | 50 |
ParametricShadows | 0 |
ParametricShadowSplit | 25 |
PostCropVignetteAmount | -22 |
PostCropVignetteFeather | 50 |
PostCropVignetteMidpoint | 50 |
PostCropVignetteRoundness | 0 |
ProfileDescription | Gray Gamma 2.2 |
Rating | 0 |
RawFileName | 0110092 -135.ORF |
RedHue | 0 |
RedSaturation | 0 |
Rights | Copyright belongs to Havenstrøm Foto DA |
Saturation | High |
SceneCaptureType | Standard |
SerialNumber | D70503423 |
Shadows | 5 |
ShadowTint | 0 |
SharpenDetail | 25 |
SharpenEdgeMasking | 0 |
SharpenRadius | +1.0 |
Sharpness (2) | 36 |
Sharpness | Hard |
ShutterSpeed | 1/100 |
ShutterSpeedValue | 1/100 |
SidecarForExtension | ORF |
Software | Adobe Photoshop CS4 Macintosh |
SplitToningBalance | 0 |
SplitToningHighlightHue | 0 |
SplitToningHighlightSaturation | 0 |
SplitToningShadowHue | 0 |
SplitToningShadowSaturation | 0 |
Tint | +7 |
ToneCurve | 0, 0, 32, 22, 64, 56, 128, 128, 192, 196, 255, 255 |
ToneCurveName | Medium Contrast |
URL_List | |
UsageTerms | Use must be proven by Havenstrøm Foto DA |
Version | 5.0 |
VignetteAmount | 0 |
WhiteBalance (2) | Custom |
WhiteBalance | Auto |