Felt | Verdi |
AlreadyApplied | True |
Aperture | 13.0 |
ApertureValue | 13.0 |
Artist | Andreas Nymoen |
BitsPerSample | 8 |
BlueHue | 0 |
BlueSaturation | 0 |
Brightness | 0 |
By-line | Andreas Nymoen |
CameraProfile | Adobe Standard |
CFAPattern | [Red,Green][Green,Blue] |
ChromaticAberrationB | 0 |
ChromaticAberrationR | 0 |
CircleOfConfusion | 0.020 mm |
Clarity | +50 |
ColorComponents | 3 |
ColorNoiseReduction | 60 |
ColorNoiseReductionDetail | 50 |
ColorTemperature | 7500 |
Contrast (2) | +14 |
Contrast | Normal |
ConvertToGrayscale | False |
Copyright | 2010 Andreas Nymoen |
CopyrightFlag | True |
CopyrightNotice | 2010 Andreas Nymoen |
CopyrightOwnerName | Andreas Nymoen |
CreateDate (1) | 2009:04:19 16:35:19.59+02:00 |
CreateDate | 2009:04:19 16:35:19 |
Creator | Andreas Nymoen |
CreatorAddress | Lumberveien 72 |
CreatorCity | Kristiansand S |
CreatorCountry | Norway |
CreatorPostalCode | 4621 |
CreatorTool | Adobe Photoshop Lightroom |
CreatorWorkEmail | andy.nymoen@gmail.com |
CreatorWorkTelephone | 92899170 |
CropAngle | 0 |
CropBottom | 1 |
CropConstrainToWarp | 0 |
CropHeight | 588 |
CropLeft | 0.061176 |
CropRight | 0.868235 |
CropTop | 0.106383 |
CropUnit | pixels |
CropWidth | 800 |
CustomRendered | Normal |
DateTimeDigitized | 2009:04:19 16:35:19.59+02:00 |
DateTimeOriginal (1) | 2009:04:19 16:35:19.59+02:00 |
DateTimeOriginal | 2009:04:19 16:35:19 |
Defringe | 0 |
DigitalZoomRatio | 1 |
DOF | inf (9.60 m - inf) |
ExifImageHeight | 800 |
ExifImageWidth | 588 |
Exposure | -0.05 |
ExposureCompensation | 0 |
ExposureMode | Auto |
ExposureProgram | Aperture-priority AE |
ExposureTime | 1/15 |
FillLight | 51 |
Flash | No Flash |
FlashFired | False |
FlashFunction | False |
FlashMode | Unknown |
FlashRedEyeMode | False |
FlashReturn | No return detection |
FNumber | 13.0 |
FocalLength | 50.0 mm |
FocalLength35efl | 50.0 mm (35 mm equivalent: 75.0 mm) |
FocalLengthIn35mmFormat | 75 mm |
FOV | 27.0 deg |
GainControl | None |
GrainAmount | 0 |
GreenHue | 0 |
GreenSaturation | 0 |
HasCrop | True |
HasSettings | True |
HighlightRecovery | 36 |
HueAdjustmentAqua | 0 |
HueAdjustmentBlue | 0 |
HueAdjustmentGreen | 0 |
HueAdjustmentMagenta | 0 |
HueAdjustmentOrange | 0 |
HueAdjustmentPurple | 0 |
HueAdjustmentRed | 0 |
HueAdjustmentYellow | 0 |
HyperfocalDistance | 9.60 m |
ImageCreatorName | Andreas Nymoen |
ImageHeight | 800 |
ImageNumber | 102 |
ImageSize | 588x800 |
ImageWidth | 588 |
ISO | 250 |
Label | Good to Use |
Lens | 50.0 mm f/1.4 |
LensID (1) | 222 |
LensID | Sigma 50mm F1.4 EX DG HSM |
LensInfo | 50mm f/1.4 |
LensManualDistortionAmount | 0 |
LensProfileEnable | 0 |
LensProfileSetup | LensDefaults |
LicensorCity | Kristiansand |
LicensorCountry | Norway |
LicensorName | Andreas Nymoen |
LicensorPostalCode | 4621 |
LicensorStreetAddress | Lumberveien 72 |
LicensorTelephone1 | 92899170 |
LightSource | Cloudy |
LightValue | 10.0 |
LuminanceAdjustmentAqua | 0 |
LuminanceAdjustmentBlue | 0 |
LuminanceAdjustmentGreen | 0 |
LuminanceAdjustmentMagenta | 0 |
LuminanceAdjustmentOrange | 0 |
LuminanceAdjustmentPurple | 0 |
LuminanceAdjustmentRed | 0 |
LuminanceAdjustmentYellow | 0 |
LuminanceNoiseReductionContrast | 50 |
LuminanceNoiseReductionDetail | 40 |
LuminanceSmoothing | 40 |
Make | NIKON CORPORATION |
Marked | True |
MaxApertureValue | 1.4 |
Megapixels | 0.470 |
MeteringMode | Multi-segment |
Model | NIKON D300S |
ModifyDate (1) | 2010:08:12 18:57:07+02:00 |
ModifyDate | 2010:08:12 18:57:07 |
ParametricDarks | 0 |
ParametricHighlights | 0 |
ParametricHighlightSplit | 75 |
ParametricLights | 0 |
ParametricMidtoneSplit | 50 |
ParametricShadows | 0 |
ParametricShadowSplit | 25 |
PerspectiveHorizontal | 0 |
PerspectiveRotate | 0.0 |
PerspectiveScale | 100 |
PerspectiveVertical | 0 |
PLUSVersion | 1.2.0 |
PostCropVignetteAmount | 0 |
ProcessVersion | 5.7 |
ProfileDescription | Adobe RGB (1998) |
RedHue | 0 |
RedSaturation | 0 |
Rights | 2010 Andreas Nymoen |
Saturation (2) | 0 |
Saturation | Normal |
SaturationAdjustmentAqua | 0 |
SaturationAdjustmentBlue | 0 |
SaturationAdjustmentGreen | 0 |
SaturationAdjustmentMagenta | 0 |
SaturationAdjustmentOrange | 0 |
SaturationAdjustmentPurple | 0 |
SaturationAdjustmentRed | 0 |
SaturationAdjustmentYellow | 0 |
ScaleFactor35efl | 1.5 |
SceneCaptureType | Standard |
SceneType | Directly photographed |
SensingMethod | One-chip color area |
SerialNumber | 6044203 |
Shadows | 5 |
ShadowTint | 0 |
SharpenDetail | 40 |
SharpenEdgeMasking | 15 |
SharpenRadius | +0.8 |
Sharpness (2) | 60 |
Sharpness | Normal |
ShutterSpeed | 1/15 |
ShutterSpeedValue | 1/15 |
Software | Ver.1.01 |
SplitToningBalance | 0 |
SplitToningHighlightHue | 0 |
SplitToningHighlightSaturation | 0 |
SplitToningShadowHue | 0 |
SplitToningShadowSaturation | 0 |
SubjectDistance | 4294967295 m |
SubjectDistanceRange | Unknown |
Tint | +10 |
ToneCurve | 0, 0, 32, 16, 64, 50, 128, 128, 192, 202, 255, 255 |
ToneCurveName | Strong Contrast |
UsageTerms | All Right Reserved |
Version | 6.1 |
Vibrance | +25 |
VignetteAmount | 0 |
WhiteBalance (2) | Shade |
WhiteBalance | Manual |