Felt | Verdi |
AlreadyApplied | True |
Aperture | 2.8 |
ApertureValue | 2.8 |
BitsPerSample | 8 |
BlueHue | 0 |
BlueSaturation | 0 |
Brightness | +50 |
CameraProfile | Embedded |
ChromaticAberrationB | 0 |
ChromaticAberrationR | 0 |
CircleOfConfusion | 0.024 mm |
Clarity | 0 |
ColorComponents | 3 |
ColorMode | RGB |
ColorNoiseReduction | 25 |
ColorSpace | sRGB |
Contrast | +25 |
ConvertToGrayscale | True |
CopyrightFlag | False |
CreateDate (1) | 2010:09:26 12:18:30+02:00 |
CreateDate | 2009:08:01 13:12:53 |
CreatorTool | Adobe Photoshop CS3 Windows |
CustomRendered | Normal |
DateAcquired | 2010:02:16 12:18:55 |
DateTimeDigitized | 2009:08:01 13:12:53+02:00 |
DateTimeOriginal (1) | 2009:08:01 13:12:53+02:00 |
DateTimeOriginal | 2009:08:01 13:12:53 |
Defringe | 0 |
ExifImageHeight | 406 |
ExifImageWidth | 870 |
Exposure | 0.00 |
ExposureCompensation | 0 |
ExposureMode | Manual |
ExposureProgram | Manual |
ExposureTime | 1/2500 |
FillLight | 26 |
Flash | Off, Did not fire |
FlashFired | False |
FlashFunction | False |
FlashMode | Off |
FlashRedEyeMode | False |
FlashReturn | No return detection |
FNumber | 2.8 |
FocalLength | 70.0 mm |
FocalLength35efl | 70.0 mm (35 mm equivalent: 87.4 mm) |
Format | image/jpeg |
FOV | 23.3 deg |
GrayMixerAqua | -10 |
GrayMixerBlue | +20 |
GrayMixerGreen | -17 |
GrayMixerMagenta | +32 |
GrayMixerOrange | +12 |
GrayMixerPurple | +25 |
GrayMixerRed | +39 |
GrayMixerYellow | -9 |
GreenHue | 0 |
GreenSaturation | 0 |
HasCrop | False |
HasSettings | True |
HighlightRecovery | 0 |
HyperfocalDistance | 72.71 m |
ICCProfileName | sRGB IEC61966-2.1 |
ImageHeight (1) | 1332 |
ImageHeight | 406 |
ImageSize | 870x406 |
ImageWidth (1) | 2852 |
ImageWidth | 870 |
IncrementalTemperature | +8 |
IncrementalTint | -16 |
ISO | 100 |
LightValue | 14.3 |
LuminanceSmoothing | 0 |
Make | Canon |
Megapixels | 0.353 |
MeteringMode | Multi-segment |
Model | Canon EOS-1D Mark II |
ModifyDate (1) | 2010:09:26 12:18:30+02:00 |
ModifyDate | 2010:09:26 12:18:30 |
Orientation | Horizontal (normal) |
PaintCorrectionActive | true |
PaintCorrectionAmount | 1.000000 |
PaintCorrectionBrightness | 0.000000 |
PaintCorrectionClarity | 0.000000 |
PaintCorrectionContrast | 0.000000 |
PaintCorrectionExposure | 0.000000 |
PaintCorrectionHue | 105.000000 |
PaintCorrectionMaskCenterWeight (1) | 0.228952 |
PaintCorrectionMaskCenterWeight | 0.029953 |
PaintCorrectionMaskFlow | 0.963000 |
PaintCorrectionMaskRadius (1) | 0.363077 |
PaintCorrectionMaskRadius | 0.417818 |
PaintCorrectionMaskValue | 0.688000 |
PaintCorrectionMaskWhat | Mask/Paint |
PaintCorrectionSaturation (1) | 0.000000 |
PaintCorrectionSaturation | 0.070000 |
PaintCorrectionSharpness | 0.000000 |
PaintCorrectionWhat | Correction |
ParametricDarks | -29 |
ParametricHighlights | -12 |
ParametricHighlightSplit | 75 |
ParametricLights | -36 |
ParametricMidtoneSplit | 50 |
ParametricShadows | -19 |
ParametricShadowSplit | 25 |
PostCropVignetteAmount | -69 |
PostCropVignetteFeather | 64 |
PostCropVignetteMidpoint | 40 |
PostCropVignetteRoundness | -36 |
ProfileDescription | sRGB IEC61966-2.1 |
RedHue | 0 |
RedSaturation | 0 |
ScaleFactor35efl | 1.2 |
SceneCaptureType | Standard |
Shadows | 2 |
ShadowTint | 0 |
SharpenDetail | 25 |
SharpenEdgeMasking | 0 |
SharpenRadius | +1.0 |
Sharpness | 25 |
ShutterSpeed | 1/2500 |
ShutterSpeedValue | 1/2500 |
Software | Adobe Photoshop CS3 Windows |
SplitToningBalance | 0 |
SplitToningHighlightHue | 51 |
SplitToningHighlightSaturation | 22 |
SplitToningShadowHue | 37 |
SplitToningShadowSaturation | 32 |
ToneCurve | 0, 0, 32, 22, 64, 56, 128, 128, 192, 196, 255, 255 |
ToneCurveName | Medium Contrast |
URL_List | |
Version | 5.6 |
VignetteAmount | -100 |
VignetteMidpoint | 48 |
WhiteBalance (2) | Custom |
WhiteBalance | Auto |