Felt | Verdi |
AlreadyApplied | False |
BitsPerSample (1) | 16, 16, 16 |
BitsPerSample | 8 |
BlueSaturation | 0 |
Brightness | +50 |
CameraProfile | ACR 3.6 |
ChromaticAberrationB | 0 |
ChromaticAberrationR | 0 |
CircleOfConfusion | 0.019 mm |
ColorComponents | 3 |
ColorMode | RGB |
ColorTemperature | 4700 |
Contrast | +25 |
ConvertToGrayscale | False |
CreateDate | 2010:10:13 10:25:10 |
Creator | unknown |
CropAngle | 0 |
CropBottom | 0.993548 |
CropLeft | 0.096126 |
CustomRendered | Normal |
DateTimeDigitized | 2010:10:13 10:25:10+02:00 |
DateTimeOriginal (1) | 2010:10:13 10:25:10+02:00 |
DateTimeOriginal | 2010:10:13 10:25:10 |
Defringe | 0 |
ExifImageHeight | 2592 |
ExifImageWidth | 2835 |
Exposure | 0.00 |
ExposureMode | Auto |
ExposureProgram | Aperture-priority AE |
ExposureTime | 1/100 |
FillLight | 20 |
Firmware | 1.1.0 |
Flash | Off, Did not fire |
FlashFired | False |
FlashFunction | False |
FlashMode | Off |
FNumber | 6.3 |
FocalLength | 500.0 mm |
FocalLength35efl | 500.0 mm (35 mm equivalent: 809.2 mm) |
FOV | 2.5 deg |
GreenHue | 0 |
GreenSaturation | 0 |
HasCrop | True |
HasSettings | True |
HighlightRecovery | 0 |
HueAdjustmentAqua | 0 |
HueAdjustmentGreen | 0 |
HueAdjustmentMagenta | 0 |
HueAdjustmentPurple | 0 |
HueAdjustmentRed | 0 |
HueAdjustmentYellow | 0 |
ImageWidth (1) | 2683 |
ImageWidth | 2835 |
ISO | 800 |
Lens | 50.0-500.0 mm |
LensInfo | 50-500mm f/? |
LuminanceAdjustmentAqua | 0 |
LuminanceAdjustmentMagenta | 0 |
Make | Canon |
MaxApertureValue | 5.6 |
Model | Canon EOS 400D DIGITAL |
ModifyDate (1) | 2010:10:13 10:25:10+02:00 |
ModifyDate | 2010:10:25 14:14:49 |
OwnerName | unknown |
ParametricDarks | 0 |
ParametricHighlightSplit | 75 |
ParametricLights | 0 |
ParametricMidtoneSplit | 50 |
ParametricShadows | 0 |
Rating | 0 |
RawFileName | _MG_5335.CR2 |
RedHue | 0 |
RedSaturation | 0 |
SamplesPerPixel | 3 |
Saturation | +20 |
SaturationAdjustmentAqua | 0 |
SaturationAdjustmentBlue | 0 |
SaturationAdjustmentGreen | 0 |
SaturationAdjustmentMagenta | 0 |
SaturationAdjustmentPurple | 0 |
SaturationAdjustmentRed | 0 |
SaturationAdjustmentYellow | 0 |
ScaleFactor35efl | 1.6 |
SceneCaptureType | Standard |
SharpenDetail | 100 |
SharpenEdgeMasking | 40 |
SharpenRadius | +0.5 |
ShutterSpeed | 1/100 |
ShutterSpeedValue | 1/100 |
SplitToningBalance | 0 |
SplitToningHighlightHue | 0 |
SplitToningHighlightSaturation | 0 |
SplitToningShadowHue | 0 |
Tint | +5 |
ToneCurveName | Medium Contrast |
Version | 4.2 |
Vibrance | 0 |
VignetteAmount | 0 |
WhiteBalance | Auto |