Felt | Verdi |
AlreadyApplied | True |
Aperture | 4.5 |
ApertureValue | 4.5 |
BitsPerSample | 8 |
BlueHue | 0 |
BlueSaturation | 0 |
Brightness | 0 |
CameraProfile | Embedded |
CFAPattern | [Green,Blue][Red,Green] |
ChromaticAberrationB | 0 |
ChromaticAberrationR | 0 |
CircleOfConfusion | 0.020 mm |
Clarity | -10 |
ColorComponents | 1 |
ColorNoiseReduction | 0 |
Contrast (2) | 0 |
Contrast | Normal |
ConvertToGrayscale | True |
CreateDate (1) | 2011:06:11 08:59:00.50+02:00 |
CreateDate | 2011:06:11 08:59:00 |
CreatorTool | Adobe Photoshop Lightroom |
CropAngle | 0 |
CropBottom | 0.952174 |
CropHeight | 3651 |
CropLeft | 0.148472 |
CropRight | 1 |
CropTop | 0.100646 |
CropUnit | pixels |
CropWidth | 2425 |
CustomRendered | Normal |
DateTimeDigitized | 2011:06:11 08:59:00.50+02:00 |
DateTimeOriginal (1) | 2011:06:11 08:59:00.50+02:00 |
DateTimeOriginal | 2011:06:11 08:59:00 |
Defringe | 0 |
DigitalZoomRatio | 1 |
ExifImageHeight | 3651 |
ExifImageWidth | 2425 |
Exposure | +0.48 |
ExposureCompensation | 0 |
ExposureMode | Auto |
ExposureProgram | Not Defined |
ExposureTime | 1/60 |
FillLight | 1 |
Flash | Auto, Did not fire |
FlashFired | False |
FlashFunction | False |
FlashMode | Auto |
FlashRedEyeMode | False |
FlashReturn | No return detection |
FNumber | 4.5 |
FocalLength | 92.0 mm |
FocalLength35efl | 92.0 mm (35 mm equivalent: 138.0 mm) |
FocalLengthIn35mmFormat | 138 mm |
FOV | 14.9 deg |
GainControl | Low gain up |
GrayMixerAqua | -16 |
GrayMixerBlue | +12 |
GrayMixerGreen | -28 |
GrayMixerMagenta | +2 |
GrayMixerOrange | -21 |
GrayMixerPurple | +16 |
GrayMixerRed | -12 |
GrayMixerYellow | -25 |
GreenHue | 0 |
GreenSaturation | 0 |
HasCrop | True |
HasSettings | True |
HighlightRecovery | 0 |
HyperfocalDistance | 93.90 m |
ImageHeight | 3651 |
ImageNumber | 22135 |
ImageSize | 2425x3651 |
ImageWidth | 2425 |
IncrementalTemperature | -7 |
IncrementalTint | -22 |
ISO | 560 |
Lens | 55.0-200.0 mm f/4.0-5.6 |
LensInfo | 55-200mm f/4-5.6 |
LightSource | Unknown |
LightValue | 7.8 |
LuminanceSmoothing | 0 |
Make | NIKON CORPORATION |
MaxApertureValue | 4.4 |
Megapixels | 8.9 |
MeteringMode | Multi-segment |
Model | NIKON D5000 |
ModifyDate (1) | 2011:06:14 22:31:44+02:00 |
ModifyDate | 2011:06:14 22:31:44 |
ParametricDarks | 0 |
ParametricHighlights | 0 |
ParametricHighlightSplit | 75 |
ParametricLights | 0 |
ParametricMidtoneSplit | 50 |
ParametricShadows | 0 |
ParametricShadowSplit | 25 |
PostCropVignetteAmount | 0 |
ProfileDescription | sRGB IEC61966-2.1 |
RedHue | 0 |
RedSaturation | 0 |
Saturation | Normal |
ScaleFactor35efl | 1.5 |
SceneCaptureType | Standard |
SceneType | Directly photographed |
SensingMethod | One-chip color area |
SerialNumber | 6051949 |
Shadows | 0 |
ShadowTint | 0 |
SharpenDetail | 62 |
SharpenEdgeMasking | 55 |
SharpenRadius | +0.6 |
Sharpness (2) | 46 |
Sharpness | Normal |
ShutterSpeed | 1/60 |
ShutterSpeedValue | 1/60 |
Software | Adobe Photoshop Lightroom |
SplitToningBalance | 0 |
SplitToningHighlightHue | 0 |
SplitToningHighlightSaturation | 0 |
SplitToningShadowHue | 0 |
SplitToningShadowSaturation | 0 |
SubjectDistanceRange | Unknown |
ToneCurve | 0, 0, 255, 255 |
ToneCurveName | Linear |
Version | 5.5 |
VignetteAmount | 0 |
WhiteBalance | Auto |