Felt | Verdi |
AlreadyApplied | True |
Aperture | 22.0 |
ApertureValue | 22.0 |
BitsPerSample | 8 |
BlueHue | 0 |
BlueSaturation | 0 |
Brightness | +50 |
CameraProfile | Adobe Standard |
ChromaticAberrationB | 0 |
ChromaticAberrationR | +1 |
CircleOfConfusion | 0.019 mm |
Clarity | 0 |
ColorComponents | 3 |
ColorNoiseReduction | 100 |
ColorNoiseReductionDetail | 47 |
ColorTemperature | 6900 |
Contrast | +25 |
ConvertToGrayscale | False |
CreateDate (1) | 2011:07:18 22:59:35.67+02:00 |
CreateDate | 2011:07:18 22:59:35 |
CreatorTool | Adobe Photoshop Lightroom |
CropAngle | 0 |
CropBottom | 0.742025 |
CropConstrainToWarp | 0 |
CropHeight | 1692 |
CropLeft | 0.163586 |
CropRight | 0.926063 |
CropTop | 0.252427 |
CropUnit | pixels |
CropWidth | 3953 |
CustomRendered | Normal |
DateTimeDigitized | 2011:07:18 22:59:35.67+02:00 |
DateTimeOriginal (1) | 2011:07:18 22:59:35.67+02:00 |
DateTimeOriginal | 2011:07:18 22:59:35 |
Defringe | 0 |
ExifImageHeight | 1692 |
ExifImageWidth | 3953 |
Exposure | 0.00 |
ExposureCompensation | 0 |
ExposureMode | Manual |
ExposureProgram | Manual |
ExposureTime | 4 |
FillLight | 0 |
Firmware | 1.0.9 |
Flash | Off, Did not fire |
FlashCompensation | 0 |
FlashFired | False |
FlashFunction | False |
FlashMode | Off |
FlashRedEyeMode | False |
FlashReturn | No return detection |
FNumber | 22.0 |
FocalLength | 150.0 mm |
FocalLength35efl | 150.0 mm (35 mm equivalent: 235.9 mm) |
FOV | 8.7 deg |
GrainAmount | 0 |
GreenHue | 0 |
GreenSaturation | 0 |
HasCrop | True |
HasSettings | True |
HighlightRecovery | 0 |
HueAdjustmentAqua | -2 |
HueAdjustmentBlue | 0 |
HueAdjustmentGreen | +2 |
HueAdjustmentMagenta | +5 |
HueAdjustmentOrange | +20 |
HueAdjustmentPurple | +16 |
HueAdjustmentRed | -100 |
HueAdjustmentYellow | +100 |
HyperfocalDistance | 53.53 m |
ImageHeight | 1692 |
ImageNumber | 0 |
ImageSize | 3953x1692 |
ImageWidth | 3953 |
ISO | 200 |
Lens | 150mm |
LensID (1) | 173 |
LensID | Sigma APO Macro 150mm f/2.8 EX DG HSM |
LensInfo | 150mm f/? |
LensManualDistortionAmount | +3 |
LensProfileEnable | 0 |
LensProfileSetup | LensDefaults |
LightValue | 5.9 |
LuminanceAdjustmentAqua | +100 |
LuminanceAdjustmentBlue | +61 |
LuminanceAdjustmentGreen | +39 |
LuminanceAdjustmentMagenta | +100 |
LuminanceAdjustmentOrange | +30 |
LuminanceAdjustmentPurple | -100 |
LuminanceAdjustmentRed | +100 |
LuminanceAdjustmentYellow | +41 |
LuminanceNoiseReductionContrast | 100 |
LuminanceNoiseReductionDetail | 0 |
LuminanceSmoothing | 100 |
Make | Canon |
MaxApertureValue | 2.8 |
Megapixels | 6.7 |
MeteringMode | Spot |
Model | Canon EOS 550D |
ModifyDate (1) | 2011:07:19 03:07:48+02:00 |
ModifyDate | 2011:07:19 03:07:48 |
ParametricDarks | 0 |
ParametricHighlights | 0 |
ParametricHighlightSplit | 75 |
ParametricLights | 0 |
ParametricMidtoneSplit | 50 |
ParametricShadows | 0 |
ParametricShadowSplit | 25 |
PerspectiveHorizontal | 0 |
PerspectiveRotate | 0.0 |
PerspectiveScale | 100 |
PerspectiveVertical | 0 |
PostCropVignetteAmount | -66 |
PostCropVignetteFeather | 100 |
PostCropVignetteHighlightContrast | 0 |
PostCropVignetteMidpoint | 71 |
PostCropVignetteRoundness | -54 |
PostCropVignetteStyle | 1 |
ProcessVersion | 5.7 |
ProfileDescription | sRGB IEC61966-2.1 |
RedHue | 0 |
RedSaturation | 0 |
Saturation | 0 |
SaturationAdjustmentAqua | +100 |
SaturationAdjustmentBlue | +32 |
SaturationAdjustmentGreen | -5 |
SaturationAdjustmentMagenta | +14 |
SaturationAdjustmentOrange | +75 |
SaturationAdjustmentPurple | +41 |
SaturationAdjustmentRed | +43 |
SaturationAdjustmentYellow | -55 |
ScaleFactor35efl | 1.6 |
SceneCaptureType | Standard |
SerialNumber | 1333707297 |
Shadows | 5 |
ShadowTint | 0 |
SharpenDetail | 0 |
SharpenEdgeMasking | 0 |
SharpenRadius | +0.5 |
Sharpness | 69 |
ShutterSpeed | 4 |
ShutterSpeedValue | 4 |
SplitToningBalance | 0 |
SplitToningHighlightHue | 0 |
SplitToningHighlightSaturation | 0 |
SplitToningShadowHue | 0 |
SplitToningShadowSaturation | 0 |
Tint | -6 |
ToneCurve | 0, 0, 32, 22, 64, 56, 128, 128, 192, 196, 255, 255 |
ToneCurveName | Medium Contrast |
Version | 6.1 |
Vibrance | 0 |
VignetteAmount | -1 |
VignetteMidpoint | 50 |
WhiteBalance (2) | As Shot |
WhiteBalance | Auto |