Felt | Verdi |
AlreadyApplied | True |
Aperture | 13.0 |
ApertureValue | 13.0 |
BitsPerSample | 8 |
BlueHue | +100 |
BlueSaturation | +1 |
Brightness | +50 |
CameraProfile | Adobe Standard |
ChromaticAberrationB | 0 |
ChromaticAberrationR | 0 |
CircleOfConfusion | 0.019 mm |
Clarity | +38 |
ColorComponents | 3 |
ColorNoiseReduction | 100 |
ColorNoiseReductionDetail | 0 |
ColorTemperature | 5793 |
Contrast | +9 |
ConvertToGrayscale | True |
CreateDate (1) | 2011:08:01 19:28:00.55+02:00 |
CreateDate | 2011:08:01 19:28:00 |
CreatorTool | Adobe Photoshop Lightroom |
CropAngle | 0 |
CropBottom | 0.631068 |
CropConstrainToWarp | 0 |
CropHeight | 1759 |
CropLeft | 0.050832 |
CropRight | 0.764325 |
CropTop | 0.122053 |
CropUnit | pixels |
CropWidth | 3699 |
CustomRendered | Normal |
DateTimeDigitized | 2011:08:01 19:28:00.55+02:00 |
DateTimeOriginal (1) | 2011:08:01 19:28:00.55+02:00 |
DateTimeOriginal | 2011:08:01 19:28:00 |
Defringe | 0 |
DOF | 7.94 m (20.47 - 28.42 m) |
ExifImageHeight | 1759 |
ExifImageWidth | 3699 |
Exposure | -0.78 |
ExposureCompensation | 0 |
ExposureMode | Auto |
ExposureProgram | Aperture-priority AE |
ExposureTime | 1/250 |
FillLight | 51 |
Firmware | 1.0.9 |
Flash | Off, Did not fire |
FlashCompensation | 0 |
FlashFired | False |
FlashFunction | False |
FlashMode | Off |
FlashRedEyeMode | False |
FlashReturn | No return detection |
FNumber | 13.0 |
FocalLength | 190.0 mm |
FocalLength35efl | 190.0 mm (35 mm equivalent: 298.8 mm) |
FOV | 6.9 deg |
GrainAmount | 90 |
GrainFrequency | 61 |
GrainSize | 32 |
GrayMixerAqua | -19 |
GrayMixerBlue | +11 |
GrayMixerGreen | -23 |
GrayMixerMagenta | +25 |
GrayMixerOrange | -13 |
GrayMixerPurple | +11 |
GrayMixerRed | -5 |
GrayMixerYellow | -27 |
GreenHue | +52 |
GreenSaturation | -61 |
HasCrop | True |
HasSettings | True |
HighlightRecovery | 100 |
HyperfocalDistance | 145.36 m |
ImageHeight | 1759 |
ImageNumber | 0 |
ImageSize | 3699x1759 |
ImageWidth | 3699 |
ISO | 400 |
Lens | EF70-200mm f/2.8L IS II USM |
LensID (1) | 251 |
LensID | Canon EF 70-200mm f/2.8L IS II USM or Canon EF 70-200mm f/2.8L IS III USM |
LensInfo | 70-200mm f/? |
LensManualDistortionAmount | 0 |
LensProfileChromaticAberrationScale | 100 |
LensProfileDistortionScale | 100 |
LensProfileEnable | 1 |
LensProfileFilename | Canon EOS 5D Mark II (Canon EF 70-200mm f2.8L IS II USM) - RAW.lcp |
LensProfileName | Adobe (Canon EF 70-200mm f/2.8 L IS II USM) |
LensProfileSetup | LensDefaults |
LensProfileVignettingScale | 100 |
LightValue | 13.4 |
LuminanceNoiseReductionContrast | 78 |
LuminanceNoiseReductionDetail | 100 |
LuminanceSmoothing | 100 |
Make | Canon |
MaxApertureValue | 2.8 |
Megapixels | 6.5 |
MeteringMode | Spot |
Model | Canon EOS 550D |
ModifyDate (1) | 2011:08:01 22:55:29+02:00 |
ModifyDate | 2011:08:01 22:55:29 |
ParametricDarks | -35 |
ParametricHighlights | 0 |
ParametricHighlightSplit | 75 |
ParametricLights | +58 |
ParametricMidtoneSplit | 50 |
ParametricShadows | -20 |
ParametricShadowSplit | 25 |
PerspectiveHorizontal | 0 |
PerspectiveRotate | 0.0 |
PerspectiveScale | 100 |
PerspectiveVertical | 0 |
PostCropVignetteAmount | -29 |
PostCropVignetteFeather | 63 |
PostCropVignetteHighlightContrast | 0 |
PostCropVignetteMidpoint | 49 |
PostCropVignetteRoundness | +100 |
PostCropVignetteStyle | 1 |
ProcessVersion | 5.7 |
ProfileDescription | sRGB IEC61966-2.1 |
RedHue | +100 |
RedSaturation | +1 |
ScaleFactor35efl | 1.6 |
SceneCaptureType | Standard |
SerialNumber | 1333707297 |
Shadows | 17 |
ShadowTint | -6 |
SharpenDetail | 33 |
SharpenEdgeMasking | 68 |
SharpenRadius | +1.6 |
Sharpness | 150 |
ShutterSpeed | 1/250 |
ShutterSpeedValue | 1/250 |
SplitToningBalance | +3 |
SplitToningHighlightHue | 257 |
SplitToningHighlightSaturation | 54 |
SplitToningShadowHue | 257 |
SplitToningShadowSaturation | 10 |
SubjectDistance | 23.8 m |
Tint | +64 |
ToneCurve | 0, 0, 32, 22, 64, 56, 128, 128, 192, 196, 255, 255 |
ToneCurveName | Medium Contrast |
Version | 6.1 |
VignetteAmount | 0 |
WhiteBalance (2) | Custom |
WhiteBalance | Auto |