Felt | Verdi |
AlreadyApplied | True |
Aperture | 8.0 |
ApertureValue | 8.0 |
BitsPerSample | 8 |
BlueHue | 0 |
BlueSaturation | 0 |
Brightness | +47 |
CameraProfile | ACR 4.4 |
ChromaticAberrationB | 0 |
ChromaticAberrationR | 0 |
CircleOfConfusion | 0.030 mm |
Clarity | +66 |
ColorComponents | 3 |
ColorNoiseReduction | 25 |
ColorNoiseReductionDetail | 50 |
ColorTemperature | 5404 |
Contrast | +25 |
ConvertToGrayscale | False |
CreateDate (1) | 2011:07:25 12:12:16+02:00 |
CreateDate | 2011:07:25 12:12:16 |
CreatorTool | Adobe Photoshop Lightroom 3.6 (Macintosh) |
CropAngle | 1.92698 |
CropBottom | 0.992929 |
CropConstrainToWarp | 0 |
CropHeight | 1876 |
CropLeft | 0.034674 |
CropRight | 0.825195 |
CropTop | 0 |
CropUnit | pixels |
CropWidth | 2400 |
CustomRendered | Normal |
DateCreated (1) | 2011:07:25 |
DateCreated | 2011:07:25 12:12:16+02:00 |
DateTimeOriginal | 2011:07:25 12:12:16 |
Defringe | 0 |
DerivedFrom | |
Exposure | 0.00 |
ExposureCompensation | 0 |
ExposureMode | Manual |
ExposureProgram | Manual |
ExposureTime | 1/125 |
FillLight | 0 |
Firmware | 1.1.0 |
Flash | Off, Did not fire |
FlashCompensation | 0 |
FNumber | 8.0 |
FocalLength | 24.0 mm |
FocalLength35efl | 24.0 mm (35 mm equivalent: 24.0 mm) |
Format | image/jpeg |
FOV | 73.6 deg |
GradientBasedCorrActive | true |
GradientBasedCorrAmount | 1.000000 |
GradientBasedCorrBrightness (1) | -0.600000 |
GradientBasedCorrBrightness (2) | 0.152941 |
GradientBasedCorrBrightness (3) | -0.223529 |
GradientBasedCorrBrightness (4) | 0.011765 |
GradientBasedCorrBrightness (5) | 0.129412 |
GradientBasedCorrBrightness (6) | 0.082353 |
GradientBasedCorrBrightness | 0.057471 |
GradientBasedCorrClarity (1) | 0.694118 |
GradientBasedCorrClarity (2) | 0.976471 |
GradientBasedCorrClarity (3) | 0.082353 |
GradientBasedCorrClarity (4) | 0.835294 |
GradientBasedCorrClarity (6) | 0.494253 |
GradientBasedCorrClarity | 0.931034 |
GradientBasedCorrContrast (1) | 0.764706 |
GradientBasedCorrContrast (2) | 0.482353 |
GradientBasedCorrContrast (4) | 0.082353 |
GradientBasedCorrContrast (5) | 0.000000 |
GradientBasedCorrContrast (6) | 0.356322 |
GradientBasedCorrContrast | 0.379310 |
GradientBasedCorrExposure | 0.000000 |
GradientBasedCorrHue | 240.000000 |
GradientBasedCorrMaskFullX (1) | 0.157763 |
GradientBasedCorrMaskFullX (2) | 0.971091 |
GradientBasedCorrMaskFullX (3) | 0.833543 |
GradientBasedCorrMaskFullX (4) | 0.018973 |
GradientBasedCorrMaskFullX (5) | 0.050879 |
GradientBasedCorrMaskFullX (6) | 0.839807 |
GradientBasedCorrMaskFullX | 0.015187 |
GradientBasedCorrMaskFullY (1) | 0.484627 |
GradientBasedCorrMaskFullY (2) | 0.516181 |
GradientBasedCorrMaskFullY (3) | 0.548439 |
GradientBasedCorrMaskFullY (4) | 0.483018 |
GradientBasedCorrMaskFullY (5) | 0.000818 |
GradientBasedCorrMaskFullY (6) | 0.558480 |
GradientBasedCorrMaskFullY | 0.507139 |
GradientBasedCorrMaskValue | 1.000000 |
GradientBasedCorrMaskWhat | Mask/Gradient |
GradientBasedCorrMaskZeroX (1) | 0.731578 |
GradientBasedCorrMaskZeroX (2) | 0.193171 |
GradientBasedCorrMaskZeroX (3) | 0.760620 |
GradientBasedCorrMaskZeroX (4) | 0.184101 |
GradientBasedCorrMaskZeroX (5) | 0.154537 |
GradientBasedCorrMaskZeroX (6) | 0.426469 |
GradientBasedCorrMaskZeroX | 0.504580 |
GradientBasedCorrMaskZeroY (1) | 0.526875 |
GradientBasedCorrMaskZeroY (2) | 0.486414 |
GradientBasedCorrMaskZeroY (3) | 0.544759 |
GradientBasedCorrMaskZeroY (4) | 0.498645 |
GradientBasedCorrMaskZeroY (5) | 0.297794 |
GradientBasedCorrMaskZeroY (6) | 0.542483 |
GradientBasedCorrMaskZeroY | 0.531837 |
GradientBasedCorrSaturation (1) | -0.317647 |
GradientBasedCorrSaturation (11) | -0.035294 |
GradientBasedCorrSaturation (3) | 0.341177 |
GradientBasedCorrSaturation (7) | 0.058824 |
GradientBasedCorrSaturation | 0.000000 |
GradientBasedCorrSharpness (6) | 0.058824 |
GradientBasedCorrSharpness | 0.035294 |
GradientBasedCorrWhat | Correction |
GrainAmount | 0 |
GreenHue | 0 |
GreenSaturation | 0 |
HasCrop | True |
HasSettings | True |
HighlightRecovery | 22 |
HueAdjustmentAqua | 0 |
HueAdjustmentBlue | 0 |
HueAdjustmentGreen | 0 |
HueAdjustmentMagenta | 0 |
HueAdjustmentOrange | 0 |
HueAdjustmentPurple | 0 |
HueAdjustmentRed | 0 |
HueAdjustmentYellow | 0 |
HyperfocalDistance | 2.40 m |
ImageHeight | 2400 |
ImageNumber | 31 |
ImageSize | 1876x2400 |
ImageWidth | 1876 |
ISO | 200 |
Lens | EF24-105mm f/4L IS USM |
LensID (1) | 237 |
LensID | Canon EF 24-105mm f/4L IS USM |
LensInfo | 24-105mm f/? |
LensManualDistortionAmount | 0 |
LensModel | EF24-105mm f/4L IS USM |
LensProfileEnable | 0 |
LensProfileSetup | LensDefaults |
LightValue | 12.0 |
LuminanceAdjustmentAqua | 0 |
LuminanceAdjustmentBlue | 0 |
LuminanceAdjustmentGreen | 0 |
LuminanceAdjustmentMagenta | 0 |
LuminanceAdjustmentOrange | 0 |
LuminanceAdjustmentPurple | 0 |
LuminanceAdjustmentRed | 0 |
LuminanceAdjustmentYellow | 0 |
LuminanceSmoothing | 0 |
Make | Canon |
MaxApertureValue | 4.0 |
Megapixels | 4.5 |
MeteringMode | Partial |
Model | Canon EOS 5D |
ModifyDate (1) | 2012:01:31 23:54:30+01:00 |
ModifyDate | 2012:01:31 23:54:30 |
PaintCorrectionActive | true |
PaintCorrectionAmount | 1.000000 |
PaintCorrectionBrightness | 0.152941 |
PaintCorrectionClarity | 0.082353 |
PaintCorrectionContrast | 0.000000 |
PaintCorrectionExposure | 0.000000 |
PaintCorrectionHue | 240.000000 |
PaintCorrectionMaskCenterWeight | 0.000000 |
PaintCorrectionMaskFlow | 0.638941 |
PaintCorrectionMaskRadius | 0.043683 |
PaintCorrectionMaskValue | 1.000000 |
PaintCorrectionMaskWhat | Mask/Paint |
PaintCorrectionSaturation (1) | -0.035294 |
PaintCorrectionSaturation | 0.000000 |
PaintCorrectionSharpness | 0.058824 |
PaintCorrectionWhat | Correction |
ParametricDarks | -11 |
ParametricHighlights | +23 |
ParametricHighlightSplit | 75 |
ParametricLights | +2 |
ParametricMidtoneSplit | 50 |
ParametricShadows | 0 |
ParametricShadowSplit | 25 |
PerspectiveHorizontal | 0 |
PerspectiveRotate | 0.0 |
PerspectiveScale | 100 |
PerspectiveVertical | 0 |
PostCropVignetteAmount | 0 |
ProcessVersion | 5.7 |
ProfileDescription | sRGB IEC61966-2.1 |
RedHue | 0 |
RedSaturation | 0 |
Saturation | +43 |
SaturationAdjustmentAqua | 0 |
SaturationAdjustmentBlue | 0 |
SaturationAdjustmentGreen | +60 |
SaturationAdjustmentMagenta | 0 |
SaturationAdjustmentOrange | 0 |
SaturationAdjustmentPurple | 0 |
SaturationAdjustmentRed | 0 |
SaturationAdjustmentYellow | 0 |
ScaleFactor35efl | 1.0 |
SceneCaptureType | Standard |
SerialNumber | 2721201972 |
Shadows | 0 |
ShadowTint | 0 |
SharpenDetail | 25 |
SharpenEdgeMasking | 0 |
SharpenRadius | +1.0 |
Sharpness | 25 |
ShutterSpeed | 1/125 |
ShutterSpeedValue | 1/125 |
Software | Adobe Photoshop Lightroom 3.6 (Macintosh) |
SplitToningBalance | 0 |
SplitToningHighlightHue | 0 |
SplitToningHighlightSaturation | 0 |
SplitToningShadowHue | 0 |
SplitToningShadowSaturation | 0 |
Tint | +4 |
ToneCurve | 0, 0, 32, 22, 64, 56, 128, 128, 192, 196, 255, 255 |
ToneCurveName | Medium Contrast |
Version | 6.6 |
Vibrance | +6 |
VignetteAmount | 0 |
WhiteBalance (1) | Custom |
WhiteBalance | Auto |