Felt | Verdi |
AlreadyApplied | True |
Aperture | 4.0 |
ApertureValue | 4.0 |
ApproximateFocusDistance | 3.72 |
AutoLateralCA | 0 |
AutoWhiteVersion | 134348800 |
BitsPerSample | 8 |
Blacks2012 | 0 |
BlueHue | 0 |
BlueSaturation | 0 |
CameraProfile | Adobe Standard |
Clarity2012 | +46 |
ColorComponents | 3 |
ColorNoiseReduction | 25 |
ColorNoiseReductionDetail | 50 |
ColorNoiseReductionSmoothness | 50 |
ColorSpace | sRGB |
ColorTemperature | 26293 |
Contrast2012 | 0 |
ConvertToGrayscale | True |
CreateDate (1) | 2014:02:06 10:08:47.13 |
CreateDate | 2014:02:06 10:08:47 |
CreatorTool | Adobe Photoshop Lightroom 5.0 (Macintosh) |
CropAngle | -2.17505 |
CropBottom | 0.944508 |
CropConstrainToWarp | 0 |
CropLeft | 0.023445 |
CropRight | 0.983296 |
CropTop | 0.321702 |
CustomRendered | Normal |
DateCreated (1) | 2014:02:06 |
DateCreated | 2014:02:06 10:08:47.13 |
DateTimeOriginal | 2014:02:06 10:08:47 |
Exposure2012 | -1.85 |
ExposureCompensation | 0 |
ExposureMode | Manual |
ExposureProgram | Manual |
ExposureTime | 1/100 |
Firmware | 1.1.3 |
Flash | Off, Did not fire |
FlashCompensation | 0 |
FNumber | 4.0 |
FocalLength | 32.0 mm |
FocalLength35efl | 32.0 mm |
Format | image/jpeg |
GrainAmount | 0 |
GrayMixerAqua | -18 |
GrayMixerBlue | +9 |
GrayMixerGreen | -27 |
GrayMixerMagenta | +4 |
GrayMixerOrange | -19 |
GrayMixerPurple | +15 |
GrayMixerRed | -10 |
GrayMixerYellow | -23 |
GreenHue | 0 |
GreenSaturation | 0 |
HasCrop | True |
HasSettings | True |
Highlights2012 | +100 |
ImageHeight | 2470 |
ImageNumber | 0 |
ImageSize | 5162x2470 |
ImageWidth | 5162 |
ISO | 800 |
Lens | EF17-40mm f/4L USM |
LensID (1) | 231 |
LensID | Canon EF 17-40mm f/4L USM |
LensInfo | 17-40mm f/? |
LensManualDistortionAmount | 0 |
LensModel | EF17-40mm f/4L USM |
LensProfileEnable | 0 |
LensProfileSetup | LensDefaults |
LensSerialNumber | 0000000000 |
LightValue | 7.6 |
LuminanceSmoothing | 0 |
Make | Canon |
MaxApertureValue | 4.0 |
Megapixels | 12.8 |
MeteringMode | Multi-segment |
Model | Canon EOS 6D |
ModifyDate (1) | 2001:01:01 01:20:15+01:00 |
ModifyDate | 2001:01:01 01:20:15 |
ParametricDarks | 0 |
ParametricHighlights | 0 |
ParametricHighlightSplit | 75 |
ParametricLights | 0 |
ParametricMidtoneSplit | 50 |
ParametricShadows | 0 |
ParametricShadowSplit | 25 |
PerspectiveAspect | 0 |
PerspectiveHorizontal | 0 |
PerspectiveRotate | 0.0 |
PerspectiveScale | 100 |
PerspectiveUpright | 0 |
PerspectiveVertical | 0 |
PostCropVignetteAmount | 0 |
ProcessVersion | 6.7 |
ProfileDescription | sRGB IEC61966-2.1 |
Rating | 3 |
RecommendedExposureIndex | 800 |
RedHue | 0 |
RedSaturation | 0 |
SceneCaptureType | Standard |
SensitivityType | Recommended Exposure Index |
SerialNumber | 083025000052 |
Shadows2012 | 0 |
ShadowTint | 0 |
SharpenDetail | 25 |
SharpenEdgeMasking | 0 |
SharpenRadius | +1.0 |
Sharpness | 91 |
ShutterSpeed | 1/100 |
ShutterSpeedValue | 1/100 |
Software | Adobe Photoshop Lightroom 5.0 (Macintosh) |
SplitToningBalance | 0 |
SplitToningHighlightHue | 24 |
SplitToningHighlightSaturation | 15 |
SplitToningShadowHue | 219 |
SplitToningShadowSaturation | 19 |
Tint | +9 |
ToneCurveName2012 | Linear |
ToneCurvePV2012 | 0, 0, 255, 255 |
ToneCurvePV2012Blue | 0, 0, 255, 255 |
ToneCurvePV2012Green | 0, 0, 255, 255 |
ToneCurvePV2012Red | 0, 0, 255, 255 |
Version | 8.2 |
VignetteAmount | +43 |
VignetteMidpoint | 50 |
WhiteBalance (1) | Custom |
WhiteBalance | Auto |
Whites2012 | 0 |