Felt | Verdi |
AlreadyApplied | True |
Aperture | 4.0 |
ApertureValue | 4.0 |
ApproximateFocusDistance | 0.77 |
Artist | Line Hårklau |
BitsPerSample | 8 |
BlueHue | 0 |
BlueSaturation | 0 |
By-line | Line Hårklau |
CameraProfile | Adobe Standard |
CircleOfConfusion | 0.004 mm |
ColorComponents | 3 |
ColorNoiseReduction | 25 |
ColorNoiseReductionDetail | 50 |
ColorSpace | Uncalibrated |
ColorTemperature | 6234 |
ConvertToGrayscale | False |
Copyright | © Line Hårklau |
CopyrightFlag | True |
CopyrightNotice | © Line Hårklau |
CreateDate (1) | 2014:02:17 12:40:12.00 |
CreateDate | 2014:02:17 12:40:12 |
Creator | Line Hårklau |
CreatorCity | Oslo |
CreatorCountry | Norway |
CreatorTool | Adobe Photoshop Lightroom 5.3 (Macintosh) |
CreatorWorkEmail | line@lilleline.com |
CreatorWorkURL | www.lilleline.com |
CropAngle | 0 |
CropBottom | 0.834453 |
CropConstrainToWarp | 0 |
CropLeft | 0 |
CropRight | 0.834453 |
CropTop | 0 |
CustomRendered | Normal |
DateCreated (1) | 2014:02:17 |
DateCreated | 2014:02:17 12:40:12.00 |
DateTimeOriginal | 2014:02:17 12:40:12 |
DOF | 0.002 m (0.769 - 0.771 m) |
ExposureCompensation | 0 |
ExposureMode | Manual |
ExposureProgram | Manual |
ExposureTime | 1/60 |
Firmware | 2.0.3 |
Flash | Off, Did not fire |
FlashCompensation | 0 |
FNumber | 4.0 |
FocalLength | 100.0 mm |
FocalLength35efl | 100.0 mm (35 mm equivalent: 799.8 mm) |
Format | image/jpeg |
FOV | 2.6 deg |
GrainAmount | 0 |
GreenHue | 0 |
GreenSaturation | 0 |
HasCrop | True |
HasSettings | True |
HueAdjustmentAqua | 0 |
HueAdjustmentBlue | 0 |
HueAdjustmentGreen | 0 |
HueAdjustmentMagenta | 0 |
HueAdjustmentOrange | 0 |
HueAdjustmentPurple | 0 |
HueAdjustmentRed | 0 |
HueAdjustmentYellow | 0 |
HyperfocalDistance | 665.47 m |
ImageHeight | 1024 |
ImageNumber | 0 |
ImageSize | 683x1024 |
ImageWidth | 683 |
ISO | 640 |
Lens | EF100mm f/2.8L Macro IS USM |
LensID (1) | 254 |
LensID | Canon EF 100mm f/2.8L Macro IS USM |
LensInfo | 100mm f/? |
LensManualDistortionAmount | 0 |
LensModel | EF100mm f/2.8L Macro IS USM |
LensProfileEnable | 0 |
LensProfileSetup | LensDefaults |
LightValue | 7.2 |
LuminanceAdjustmentAqua | 0 |
LuminanceAdjustmentBlue | 0 |
LuminanceAdjustmentGreen | 0 |
LuminanceAdjustmentMagenta | 0 |
LuminanceAdjustmentOrange | 0 |
LuminanceAdjustmentPurple | 0 |
LuminanceAdjustmentRed | 0 |
LuminanceAdjustmentYellow | 0 |
LuminanceSmoothing | 0 |
Make | Canon |
Marked | True |
MaxApertureValue | 2.8 |
Megapixels | 0.699 |
MeteringMode | Multi-segment |
Model | Canon EOS 7D |
ModifyDate (1) | 2014:02:17 22:37:27+01:00 |
ModifyDate | 2014:02:17 22:37:27 |
PaintCorrectionActive | True |
PaintCorrectionAmount | 1.000000 |
PaintCorrectionBrightness | 0.000000 |
PaintCorrectionHue | 0.000000 |
PaintCorrectionMaskCenterWeight (1) | 0.882944 |
PaintCorrectionMaskCenterWeight | 0.056570 |
PaintCorrectionMaskFlow | 0.946369 |
PaintCorrectionMaskRadius (1) | 0.117807 |
PaintCorrectionMaskRadius | 0.081934 |
PaintCorrectionMaskValue | 0.465230 |
PaintCorrectionMaskWhat | Mask/Paint |
PaintCorrectionSaturation (1) | 0.007461 |
PaintCorrectionSaturation | 0.000000 |
PaintCorrectionSharpness | 0.000000 |
PaintCorrectionWhat | Correction |
ParametricDarks | 0 |
ParametricHighlights | 0 |
ParametricHighlightSplit | 75 |
ParametricLights | 0 |
ParametricMidtoneSplit | 50 |
ParametricShadows | 0 |
ParametricShadowSplit | 25 |
PerspectiveHorizontal | 0 |
PerspectiveRotate | 0.0 |
PerspectiveScale | 100 |
PerspectiveVertical | 0 |
PostCropVignetteAmount | -22 |
PostCropVignetteFeather | 50 |
PostCropVignetteMidpoint | 50 |
PostCropVignetteRoundness | 0 |
PostCropVignetteStyle | 1 |
ProcessVersion | 6.7 |
ProfileDescription | sRGB IEC61966-2.1 |
RecommendedExposureIndex | 640 |
RedHue | 0 |
RedSaturation | 0 |
Rights | © Line Hårklau |
Saturation | Normal |
SaturationAdjustmentAqua | 0 |
SaturationAdjustmentBlue | 0 |
SaturationAdjustmentGreen | 0 |
SaturationAdjustmentMagenta | 0 |
SaturationAdjustmentOrange | 0 |
SaturationAdjustmentPurple | 0 |
SaturationAdjustmentRed | 0 |
SaturationAdjustmentYellow | 0 |
ScaleFactor35efl | 8.0 |
SceneCaptureType | Standard |
SensitivityType | Recommended Exposure Index |
SerialNumber | 1080706477 |
ShadowTint | 0 |
SharpenDetail | 25 |
SharpenEdgeMasking | 0 |
SharpenRadius | +1.0 |
Sharpness | Hard |
ShutterSpeed | 1/60 |
ShutterSpeedValue | 1/60 |
Software | Adobe Photoshop Lightroom 5.3 (Macintosh) |
SplitToningBalance | 0 |
SplitToningHighlightHue | 0 |
SplitToningHighlightSaturation | 0 |
SplitToningShadowHue | 0 |
SplitToningShadowSaturation | 0 |
Tint | +9 |
URL | www.lilleline.com |
UsageTerms | All Rights Reserved |
Version | 8.3 |
Vibrance | +25 |
VignetteAmount | 0 |
WebStatement | www.lilleline.com |
WhiteBalance | Manual |